{"text_format":"2","workbook":"xlsx","n_sheets":3,"sheets":["Reisekostenabrechnung","Bearbeitungshinweise","data_fill"],"not_rendered":{"charts":0,"images":1,"macros":0,"external_links":0,"defined_names":12,"comments":1,"pivot_tables":0},"unopened":[],"bounds":{"document_bytes":16777216,"sheet_cells":100000,"run_cost":"one","rows_first":2000,"rows_last":500,"rows_between":2000,"halvings":0,"cell_chars":16384,"cell_head_chars":4096},"cells_cut":0,"cells_raw":0,"read":"whole","date_system":"1900"}

{"sheet":"Reisekostenabrechnung","index":0,"n_rows":41,"n_cols":29,"rows_kept":41,"cut":false,"hidden":false,"merged":[[9,22,9,28],[9,18,9,20],[40,12,40,16],[40,1,40,3],[40,4,40,6],[30,12,30,16],[34,12,34,16],[38,12,38,16],[30,1,30,2],[36,5,36,6],[36,7,36,8],[8,8,8,15],[28,12,28,16],[10,4,10,5],[28,1,28,11],[9,8,9,9],[9,10,9,12],[8,1,8,2],[8,3,8,7],[0,1,0,16],[2,4,2,6],[2,10,2,16],[6,1,6,8],[4,1,4,8],[2,1,2,3]]}
[null,"Reisekostenabrechnung (Inland) 2021"]
[]
[{"$f":"\"--> blaue Felder = Eingabefelder\"","v":"--> blaue Felder = Eingabefelder"},"für den Monat / Zeitraum",{"$nulls":7},"Name:"]
[]
[{"$f":"\"--> Roter Rahmen = Pflichteingabe\"","v":"--> Roter Rahmen = Pflichteingabe"},"Ich bin Arbeitnehmer?"]
[]
[null,"Ich erstelle die Abrechnung für meine Einkommensteuererklärung"]
[]
["Bearbeitungshinweise","Reisedaten",null,"Reisezeiten",{"$nulls":4},"Übernachtung",{"$nulls":7},"Fahrt-kosten"]
[null,"Reiseziel ","Reisezweck","Reisetag","Beginn","Ende","Dauer","Verpflegungs-pauschale","Übernachtung",null,"Wurden bestimmte Mahlzeiten gestellt bzw. separat abgerechnet?",null,null,"Verpflegungspauschale abzgl. F, M, A","Nachweis (z. B. Hotelrechnung lt. Anlage)","Pauschal \n(20,- EUR nur ohne Nachweis)","gefahrene Strecke (gesamt)",null,"Berechnung des Wertes in Spalte H",null,null,null,"Berechnung der Kürzungen"]
[null,"Ort","Erläuterungen","Datum","Zeit",null,"Std.","EUR","Ja\nNein","Hotel (Name)","Frühstück","Mittagessen","Abendessen","EUR","EUR","EUR","km",null,"Pflichtangeben gemacht?","An- bzw. Abreise oder 8-stündige Abwesenheit?","24-stündige Abwesenheit?",null,"Kürzung Frühstück","Kürzung\nMittagessen","Kürzung\nAbendessen","Kürzung Gesamt","VMA","VMAabzgl. Kürzung","Ansatz"]
[{"$nulls":6},{"$f":"IF(S12=1,(F12-E12),\"\")","v":""},{"$f":"IF(S12=1,T12+U12,\"\")","v":""},{"$nulls":5},{"$f":"IF(ISNUMBER(H12),AC12,\"\")","v":""},null,{"$f":"IF(AND($J$5=\"ja\",I12=\"ja\",$J$7=\"nein\"),IF(O12=\"\",20,\"\"),\"\")","v":""},null,null,{"$f":"IF(AND($E$3<>\"\",$J$5<>\"\",$J$7<>\"\",ISNUMBER(E12),ISNUMBER(F12)),1,0)","v":0},{"$f":"IF(OR(AND(G12>TIME(8,0,0),E12>TIME(0,0,0),F12<TIME(23,59,59)),AND(E12<TIME(0,0,1),F12<TIME(23,59,59),E12<>\"\",F12<>\"\"),AND(E12>TIME(0,0,0),F12>TIME(23,59,59))),data_fill!$D$2,0)","v":0},{"$f":"IF(G12>TIME(23,59,59),data_fill!$D$3,0)","v":28},null,{"$f":"IF(K12=\"ja\",28*0.2,0)","v":0},{"$f":"IF(L12=\"ja\",28*0.4,0)","v":0},{"$f":"IF(M12=\"ja\",28*0.4,0)","v":0},{"$f":"SUM(W12:Y12)","v":0},{"$f":"IF(ISNUMBER(H12),H12,0)","v":0},{"$f":"AA12-Z12","v":0},{"$f":"IF(AB12<0,0,AB12)","v":0}]
[{"$nulls":6},{"$f":"IF(S13=1,(F13-E13),\"\")","v":""},{"$f":"IF(S13=1,T13+U13,\"\")","v":""},{"$nulls":5},{"$f":"IF(ISNUMBER(H13),AC13,\"\")","v":""},null,{"$f":"IF(AND($J$5=\"ja\",I13=\"ja\",$J$7=\"nein\"),IF(O13=\"\",20,\"\"),\"\")","v":""},null,null,{"$f":"IF(AND($E$3<>\"\",$J$5<>\"\",$J$7<>\"\",ISNUMBER(E13),ISNUMBER(F13)),1,0)","v":0},{"$f":"IF(OR(AND(G13>TIME(8,0,0),E13>TIME(0,0,0),F13<TIME(23,59,59)),AND(E13<TIME(0,0,1),F13<TIME(23,59,59),E13<>\"\",F13<>\"\"),AND(E13>TIME(0,0,0),F13>TIME(23,59,59))),data_fill!$D$2,0)","v":0},{"$f":"IF(G13>TIME(23,59,59),data_fill!$D$3,0)","v":28},null,{"$f":"IF(K13=\"ja\",28*0.2,0)","v":0},{"$f":"IF(L13=\"ja\",28*0.4,0)","v":0},{"$f":"IF(M13=\"ja\",28*0.4,0)","v":0},{"$f":"SUM(W13:Y13)","v":0},{"$f":"IF(ISNUMBER(H13),H13,0)","v":0},{"$f":"AA13-Z13","v":0},{"$f":"IF(AB13<0,0,AB13)","v":0}]
[{"$nulls":6},{"$f":"IF(S14=1,(F14-E14),\"\")","v":""},{"$f":"IF(S14=1,T14+U14,\"\")","v":""},{"$nulls":5},{"$f":"IF(ISNUMBER(H14),AC14,\"\")","v":""},null,"",null,null,{"$f":"IF(AND($E$3<>\"\",$J$5<>\"\",$J$7<>\"\",ISNUMBER(E14),ISNUMBER(F14)),1,0)","v":0},{"$f":"IF(OR(AND(G14>TIME(8,0,0),E14>TIME(0,0,0),F14<TIME(23,59,59)),AND(E14<TIME(0,0,1),F14<TIME(23,59,59),E14<>\"\",F14<>\"\"),AND(E14>TIME(0,0,0),F14>TIME(23,59,59))),data_fill!$D$2,0)","v":0},{"$f":"IF(G14>TIME(23,59,59),data_fill!$D$3,0)","v":28},null,{"$f":"IF(K14=\"ja\",28*0.2,0)","v":0},{"$f":"IF(L14=\"ja\",28*0.4,0)","v":0},{"$f":"IF(M14=\"ja\",28*0.4,0)","v":0},0,{"$f":"IF(ISNUMBER(H14),H14,0)","v":0},0,0]
[{"$nulls":6},{"$f":"IF(S15=1,(F15-E15),\"\")","v":""},{"$f":"IF(S15=1,T15+U15,\"\")","v":""},{"$nulls":5},{"$f":"IF(ISNUMBER(H15),AC15,\"\")","v":""},null,"",null,null,{"$f":"IF(AND($E$3<>\"\",$J$5<>\"\",$J$7<>\"\",ISNUMBER(E15),ISNUMBER(F15)),1,0)","v":0},{"$f":"IF(OR(AND(G15>TIME(8,0,0),E15>TIME(0,0,0),F15<TIME(23,59,59)),AND(E15<TIME(0,0,1),F15<TIME(23,59,59),E15<>\"\",F15<>\"\"),AND(E15>TIME(0,0,0),F15>TIME(23,59,59))),data_fill!$D$2,0)","v":0},{"$f":"IF(G15>TIME(23,59,59),data_fill!$D$3,0)","v":28},null,{"$f":"IF(K15=\"ja\",28*0.2,0)","v":0},{"$f":"IF(L15=\"ja\",28*0.4,0)","v":0},{"$f":"IF(M15=\"ja\",28*0.4,0)","v":0},0,{"$f":"IF(ISNUMBER(H15),H15,0)","v":0},0,{"$f":"IF(AB15<0.1,0,AB15)","v":0}]
[{"$nulls":6},{"$f":"IF(S16=1,(F16-E16),\"\")","v":""},{"$f":"IF(S16=1,T16+U16,\"\")","v":""},{"$nulls":5},{"$f":"IF(ISNUMBER(H16),AC16,\"\")","v":""},null,"",null,null,{"$f":"IF(AND($E$3<>\"\",$J$5<>\"\",$J$7<>\"\",ISNUMBER(E16),ISNUMBER(F16)),1,0)","v":0},{"$f":"IF(OR(AND(G16>TIME(8,0,0),E16>TIME(0,0,0),F16<TIME(23,59,59)),AND(E16<TIME(0,0,1),F16<TIME(23,59,59),E16<>\"\",F16<>\"\"),AND(E16>TIME(0,0,0),F16>TIME(23,59,59))),data_fill!$D$2,0)","v":0},{"$f":"IF(G16>TIME(23,59,59),data_fill!$D$3,0)","v":28},null,{"$f":"IF(K16=\"ja\",28*0.2,0)","v":0},{"$f":"IF(L16=\"ja\",28*0.4,0)","v":0},{"$f":"IF(M16=\"ja\",28*0.4,0)","v":0},0,{"$f":"IF(ISNUMBER(H16),H16,0)","v":0},0,0]
[{"$nulls":6},{"$f":"IF(S17=1,(F17-E17),\"\")","v":""},{"$f":"IF(S17=1,T17+U17,\"\")","v":""},{"$nulls":5},{"$f":"IF(ISNUMBER(H17),AC17,\"\")","v":""},null,"",null,null,{"$f":"IF(AND($E$3<>\"\",$J$5<>\"\",$J$7<>\"\",ISNUMBER(E17),ISNUMBER(F17)),1,0)","v":0},{"$f":"IF(OR(AND(G17>TIME(8,0,0),E17>TIME(0,0,0),F17<TIME(23,59,59)),AND(E17<TIME(0,0,1),F17<TIME(23,59,59),E17<>\"\",F17<>\"\"),AND(E17>TIME(0,0,0),F17>TIME(23,59,59))),data_fill!$D$2,0)","v":0},{"$f":"IF(G17>TIME(23,59,59),data_fill!$D$3,0)","v":28},null,{"$f":"IF(K17=\"ja\",28*0.2,0)","v":0},{"$f":"IF(L17=\"ja\",28*0.4,0)","v":0},{"$f":"IF(M17=\"ja\",28*0.4,0)","v":0},0,{"$f":"IF(ISNUMBER(H17),H17,0)","v":0},0,0]
[{"$nulls":6},{"$f":"IF(S18=1,(F18-E18),\"\")","v":""},{"$f":"IF(S18=1,T18+U18,\"\")","v":""},{"$nulls":5},{"$f":"IF(ISNUMBER(H18),AC18,\"\")","v":""},null,"",null,null,{"$f":"IF(AND($E$3<>\"\",$J$5<>\"\",$J$7<>\"\",ISNUMBER(E18),ISNUMBER(F18)),1,0)","v":0},{"$f":"IF(OR(AND(G18>TIME(8,0,0),E18>TIME(0,0,0),F18<TIME(23,59,59)),AND(E18<TIME(0,0,1),F18<TIME(23,59,59),E18<>\"\",F18<>\"\"),AND(E18>TIME(0,0,0),F18>TIME(23,59,59))),data_fill!$D$2,0)","v":0},{"$f":"IF(G18>TIME(23,59,59),data_fill!$D$3,0)","v":28},null,{"$f":"IF(K18=\"ja\",28*0.2,0)","v":0},{"$f":"IF(L18=\"ja\",28*0.4,0)","v":0},{"$f":"IF(M18=\"ja\",28*0.4,0)","v":0},0,{"$f":"IF(ISNUMBER(H18),H18,0)","v":0},0,0]
[{"$nulls":6},{"$f":"IF(S19=1,(F19-E19),\"\")","v":""},{"$f":"IF(S19=1,T19+U19,\"\")","v":""},{"$nulls":5},{"$f":"IF(ISNUMBER(H19),AC19,\"\")","v":""},null,"",null,null,{"$f":"IF(AND($E$3<>\"\",$J$5<>\"\",$J$7<>\"\",ISNUMBER(E19),ISNUMBER(F19)),1,0)","v":0},{"$f":"IF(OR(AND(G19>TIME(8,0,0),E19>TIME(0,0,0),F19<TIME(23,59,59)),AND(E19<TIME(0,0,1),F19<TIME(23,59,59),E19<>\"\",F19<>\"\"),AND(E19>TIME(0,0,0),F19>TIME(23,59,59))),data_fill!$D$2,0)","v":0},{"$f":"IF(G19>TIME(23,59,59),data_fill!$D$3,0)","v":28},null,{"$f":"IF(K19=\"ja\",28*0.2,0)","v":0},{"$f":"IF(L19=\"ja\",28*0.4,0)","v":0},{"$f":"IF(M19=\"ja\",28*0.4,0)","v":0},0,{"$f":"IF(ISNUMBER(H19),H19,0)","v":0},0,0]
[{"$nulls":6},{"$f":"IF(S20=1,(F20-E20),\"\")","v":""},{"$f":"IF(S20=1,T20+U20,\"\")","v":""},{"$nulls":5},{"$f":"IF(ISNUMBER(H20),AC20,\"\")","v":""},null,"",null,null,{"$f":"IF(AND($E$3<>\"\",$J$5<>\"\",$J$7<>\"\",ISNUMBER(E20),ISNUMBER(F20)),1,0)","v":0},{"$f":"IF(OR(AND(G20>TIME(8,0,0),E20>TIME(0,0,0),F20<TIME(23,59,59)),AND(E20<TIME(0,0,1),F20<TIME(23,59,59),E20<>\"\",F20<>\"\"),AND(E20>TIME(0,0,0),F20>TIME(23,59,59))),data_fill!$D$2,0)","v":0},{"$f":"IF(G20>TIME(23,59,59),data_fill!$D$3,0)","v":28},null,{"$f":"IF(K20=\"ja\",28*0.2,0)","v":0},{"$f":"IF(L20=\"ja\",28*0.4,0)","v":0},{"$f":"IF(M20=\"ja\",28*0.4,0)","v":0},0,{"$f":"IF(ISNUMBER(H20),H20,0)","v":0},0,0]
[{"$nulls":6},{"$f":"IF(S21=1,(F21-E21),\"\")","v":""},{"$f":"IF(S21=1,T21+U21,\"\")","v":""},{"$nulls":5},{"$f":"IF(ISNUMBER(H21),AC21,\"\")","v":""},null,"",null,null,{"$f":"IF(AND($E$3<>\"\",$J$5<>\"\",$J$7<>\"\",ISNUMBER(E21),ISNUMBER(F21)),1,0)","v":0},{"$f":"IF(OR(AND(G21>TIME(8,0,0),E21>TIME(0,0,0),F21<TIME(23,59,59)),AND(E21<TIME(0,0,1),F21<TIME(23,59,59),E21<>\"\",F21<>\"\"),AND(E21>TIME(0,0,0),F21>TIME(23,59,59))),data_fill!$D$2,0)","v":0},{"$f":"IF(G21>TIME(23,59,59),data_fill!$D$3,0)","v":28},null,{"$f":"IF(K21=\"ja\",28*0.2,0)","v":0},{"$f":"IF(L21=\"ja\",28*0.4,0)","v":0},{"$f":"IF(M21=\"ja\",28*0.4,0)","v":0},0,{"$f":"IF(ISNUMBER(H21),H21,0)","v":0},0,0]
[{"$nulls":6},{"$f":"IF(S22=1,(F22-E22),\"\")","v":""},{"$f":"IF(S22=1,T22+U22,\"\")","v":""},{"$nulls":5},{"$f":"IF(ISNUMBER(H22),AC22,\"\")","v":""},null,"",null,null,{"$f":"IF(AND($E$3<>\"\",$J$5<>\"\",$J$7<>\"\",ISNUMBER(E22),ISNUMBER(F22)),1,0)","v":0},{"$f":"IF(OR(AND(G22>TIME(8,0,0),E22>TIME(0,0,0),F22<TIME(23,59,59)),AND(E22<TIME(0,0,1),F22<TIME(23,59,59),E22<>\"\",F22<>\"\"),AND(E22>TIME(0,0,0),F22>TIME(23,59,59))),data_fill!$D$2,0)","v":0},{"$f":"IF(G22>TIME(23,59,59),data_fill!$D$3,0)","v":28},null,{"$f":"IF(K22=\"ja\",28*0.2,0)","v":0},{"$f":"IF(L22=\"ja\",28*0.4,0)","v":0},{"$f":"IF(M22=\"ja\",28*0.4,0)","v":0},0,{"$f":"IF(ISNUMBER(H22),H22,0)","v":0},0,0]
[{"$nulls":6},{"$f":"IF(S23=1,(F23-E23),\"\")","v":""},{"$f":"IF(S23=1,T23+U23,\"\")","v":""},{"$nulls":5},{"$f":"IF(ISNUMBER(H23),AC23,\"\")","v":""},null,"",null,null,{"$f":"IF(AND($E$3<>\"\",$J$5<>\"\",$J$7<>\"\",ISNUMBER(E23),ISNUMBER(F23)),1,0)","v":0},{"$f":"IF(OR(AND(G23>TIME(8,0,0),E23>TIME(0,0,0),F23<TIME(23,59,59)),AND(E23<TIME(0,0,1),F23<TIME(23,59,59),E23<>\"\",F23<>\"\"),AND(E23>TIME(0,0,0),F23>TIME(23,59,59))),data_fill!$D$2,0)","v":0},{"$f":"IF(G23>TIME(23,59,59),data_fill!$D$3,0)","v":28},null,{"$f":"IF(K23=\"ja\",28*0.2,0)","v":0},{"$f":"IF(L23=\"ja\",28*0.4,0)","v":0},{"$f":"IF(M23=\"ja\",28*0.4,0)","v":0},0,{"$f":"IF(ISNUMBER(H23),H23,0)","v":0},0,0]
[{"$nulls":6},{"$f":"IF(S24=1,(F24-E24),\"\")","v":""},{"$f":"IF(S24=1,T24+U24,\"\")","v":""},{"$nulls":5},{"$f":"IF(ISNUMBER(H24),AC24,\"\")","v":""},null,"",null,null,{"$f":"IF(AND($E$3<>\"\",$J$5<>\"\",$J$7<>\"\",ISNUMBER(E24),ISNUMBER(F24)),1,0)","v":0},{"$f":"IF(OR(AND(G24>TIME(8,0,0),E24>TIME(0,0,0),F24<TIME(23,59,59)),AND(E24<TIME(0,0,1),F24<TIME(23,59,59),E24<>\"\",F24<>\"\"),AND(E24>TIME(0,0,0),F24>TIME(23,59,59))),data_fill!$D$2,0)","v":0},{"$f":"IF(G24>TIME(23,59,59),data_fill!$D$3,0)","v":28},null,{"$f":"IF(K24=\"ja\",28*0.2,0)","v":0},{"$f":"IF(L24=\"ja\",28*0.4,0)","v":0},{"$f":"IF(M24=\"ja\",28*0.4,0)","v":0},0,{"$f":"IF(ISNUMBER(H24),H24,0)","v":0},0,0]
[{"$nulls":6},{"$f":"IF(S25=1,(F25-E25),\"\")","v":""},{"$f":"IF(S25=1,T25+U25,\"\")","v":""},{"$nulls":5},{"$f":"IF(ISNUMBER(H25),AC25,\"\")","v":""},null,"",null,null,{"$f":"IF(AND($E$3<>\"\",$J$5<>\"\",$J$7<>\"\",ISNUMBER(E25),ISNUMBER(F25)),1,0)","v":0},{"$f":"IF(OR(AND(G25>TIME(8,0,0),E25>TIME(0,0,0),F25<TIME(23,59,59)),AND(E25<TIME(0,0,1),F25<TIME(23,59,59),E25<>\"\",F25<>\"\"),AND(E25>TIME(0,0,0),F25>TIME(23,59,59))),data_fill!$D$2,0)","v":0},{"$f":"IF(G25>TIME(23,59,59),data_fill!$D$3,0)","v":28},null,{"$f":"IF(K25=\"ja\",28*0.2,0)","v":0},{"$f":"IF(L25=\"ja\",28*0.4,0)","v":0},{"$f":"IF(M25=\"ja\",28*0.4,0)","v":0},0,{"$f":"IF(ISNUMBER(H25),H25,0)","v":0},0,0]
[null,"Summe",{"$nulls":11},{"$f":"IF((AND($E$3<>\"\",$J$5<>\"\",$J$7<>\"\")),SUM(N12:N25),0)","v":0},{"$f":"IF((AND($E$3<>\"\",$J$5<>\"\",$J$7<>\"\")),SUM(O12:O25),0)","v":0},{"$f":"IF((AND($E$3<>\"\",$J$5<>\"\",$J$7<>\"\")),SUM(P12:P25),0)","v":0},{"$f":"IF((AND($E$3<>\"\",$J$5<>\"\",$J$7<>\"\")),SUM(Q12:Q25),0)","v":0}]
[]
[null,"Auszahlungen"]
[null,"Verpflegungsmehraufwendungen abzgl. Anzurechnender, gestellter Mahlzeiten",{"$nulls":10},{"$f":"N26","v":0}]
[]
[null,"Übernachtungskosten",{"$nulls":10},{"$f":"SUM(J32:J33)","v":0}]
[null,null,"Hotel",{"$nulls":6},{"$f":"O26","v":0}]
[null,null,"Pauschal",{"$nulls":6},{"$f":"P26","v":0}]
[]
[null,"Fahrtkosten (Pkw)",{"$nulls":10},{"$f":"$H$37*$D$37","v":0}]
[]
[null,null,"Summe km:",{"$f":"$Q$26","v":0},null,"pauschal pro Kilometer:",null,{"$f":"data_fill!$D$5","v":0.3}]
[]
[null,"sonstige Kosten lt. Nachweis (z. B. Parkkosten, Autobahngebühren)"]
[]
[null,"Auszahlung der Reisekosten für",null,null,{"$f":"IF((($E$3)=\"Bitte auswählen!\"),\" \",$E$3)","v":0},{"$nulls":7},{"$f":"SUM(M29+M31+M35+M39)","v":0}]

{"sheet":"Bearbeitungshinweise","index":1,"n_rows":38,"n_cols":29,"rows_kept":38,"cut":false,"hidden":false,"merged":[[9,18,9,20],[9,22,9,28],[0,1,0,16],[2,1,2,3],[2,4,2,6],[2,10,2,16],[4,1,4,8],[37,12,37,16],[35,1,35,11],[28,1,28,11],[29,2,29,3],[28,12,28,16],[35,12,35,16],[32,12,32,16],[37,1,37,3],[37,4,37,6],[10,4,10,5],[9,8,9,9],[33,7,33,8],[33,5,33,6],[26,1,26,11],[26,12,26,16],[8,8,8,15],[9,10,9,12],[6,1,6,8],[8,1,8,2],[8,3,8,7]]}
[null,"Reisekostenabrechnung (Inland) 2021"]
[]
[null,"für den Monat / Zeitraum",null,null,"Mai",{"$nulls":4},"Name:"]
[]
[null,"Ich bin Arbeitnehmer?",{"$nulls":7},"ja"]
[]
[null,"Ich erstelle die Abrechnung für meine Einkommensteuererklärung",{"$nulls":7},"nein"]
[]
["ZURÜCK","Reisedaten",null,"Reisezeiten",{"$nulls":4},"Übernachtung",{"$nulls":7},"Fahrt-kosten"]
[null,"Reiseziel ","Reisezweck","Reisetag","Beginn","Ende","Dauer","Verpflegungs-pauschale","Übernachtung",null,"Wurden bestimmte Mahlzeiten gestellt bzw. separat abgerechnet?",null,null,"Verpflegungspau-schale abzgl. F, M, A","Nachweis (z. B. Hotelrechnung lt. Anlage)","Pauschal \n(20,- EUR nur ohne Nachweis)","gefahrene Strecke (gesamt)",null,"Berechnung des Wertes in Spalte H",null,null,null,"Berechnung der Kürzungen"]
[null,"Ort","Erläuterungen","Datum","Zeit",null,"Std.","EUR",null,"Hotel (Name)","Frühstück ","Mittagessen","Abendessen","EUR","EUR","EUR","km",null,"Pflichtangeben gemacht?","An- bzw. Abreise oder 8-stündige Abwesenheit?","24-stündige Abwesenheit?",null,"Kürzung Frühstück","Kürzung\nMittagessen","Kürzung\nAbendessen","Kürzung Gesamt","VMA","VMAabzgl. Kürzung","Ansatz"]
[null,"Bremen","Messe","2021-05-15","18:00:00",1,{"$f":"IF(S12=1,(F12-E12),\"\")","v":0.25},{"$f":"IF(S12=1,T12+U12,\"\")","v":14},"ja","Acer",null,null,null,{"$f":"IF(ISNUMBER(H12),AC12,\"\")","v":14},100,{"$f":"IF(AND($J$5=\"ja\",I12=\"ja\",$J$7=\"nein\"),IF(O12=\"\",20,\"\"),\"\")","v":""},476,null,{"$f":"IF(AND($E$3<>\"\",$J$5<>\"\",$J$7<>\"\",ISNUMBER(E12),ISNUMBER(F12)),1,0)","v":1},{"$f":"IF(OR(AND(G12>TIME(8,0,0),E12>TIME(0,0,0),F12<TIME(23,59,59)),AND(E12<TIME(0,0,1),F12<TIME(23,59,59),E12<>\"\",F12<>\"\"),AND(E12>TIME(0,0,0),F12>TIME(23,59,59))),data_fill!$D$2,0)","v":14},{"$f":"IF(G12>TIME(23,59,59),data_fill!$D$3,0)","v":0},null,{"$f":"IF(K12=\"ja\",28*0.2,0)","v":0},{"$f":"IF(L12=\"ja\",28*0.4,0)","v":0},{"$f":"IF(M12=\"ja\",28*0.4,0)","v":0},{"$f":"SUM(W12:Y12)","v":0},{"$f":"IF(ISNUMBER(H12),H12,0)","v":14},{"$f":"AA12-Z12","v":14},{"$f":"IF(AB12<0,0,AB12)","v":14}]
[null,"Bremen","Messe","2021-05-16","00:00:00",1,{"$f":"IF(S13=1,(F13-E13),\"\")","v":1},{"$f":"IF(S13=1,T13+U13,\"\")","v":28},"ja","Acer","ja","ja",null,{"$f":"IF(ISNUMBER(H13),AC13,\"\")","v":11.2},null,{"$f":"IF(AND($J$5=\"ja\",I13=\"ja\",$J$7=\"nein\"),IF(O13=\"\",20,\"\"),\"\")","v":20},15,null,{"$f":"IF(AND($E$3<>\"\",$J$5<>\"\",$J$7<>\"\",ISNUMBER(E13),ISNUMBER(F13)),1,0)","v":1},{"$f":"IF(OR(AND(G13>TIME(8,0,0),E13>TIME(0,0,0),F13<TIME(23,59,59)),AND(E13<TIME(0,0,1),F13<TIME(23,59,59),E13<>\"\",F13<>\"\"),AND(E13>TIME(0,0,0),F13>TIME(23,59,59))),data_fill!$D$2,0)","v":0},{"$f":"IF(G13>TIME(23,59,59),data_fill!$D$3,0)","v":28},null,{"$f":"IF(K13=\"ja\",28*0.2,0)","v":5.6000000000000005},{"$f":"IF(L13=\"ja\",28*0.4,0)","v":11.200000000000001},{"$f":"IF(M13=\"ja\",28*0.4,0)","v":0},{"$f":"SUM(W13:Y13)","v":16.8},{"$f":"IF(ISNUMBER(H13),H13,0)","v":28},{"$f":"AA13-Z13","v":11.2},{"$f":"IF(AB13<0,0,AB13)","v":11.2}]
[null,"Bremern","Messe","2021-05-17","00:00:00",0.75,0.75,14,{"$nulls":5},14,null,{"$f":"IF(AND($J$5=\"ja\",I14=\"ja\",$J$7=\"nein\"),IF(O14=\"\",20,\"\"),\"\")","v":""},476,null,{"$f":"IF(AND($E$3<>\"\",$J$5<>\"\",$J$7<>\"\",ISNUMBER(E14),ISNUMBER(F14)),1,0)","v":1},{"$f":"IF(OR(AND(G14>TIME(8,0,0),E14>TIME(0,0,0),F14<TIME(23,59,59)),AND(E14<TIME(0,0,1),F14<TIME(23,59,59),E14<>\"\",F14<>\"\"),AND(E14>TIME(0,0,0),F14>TIME(23,59,59))),data_fill!$D$2,0)","v":14},{"$f":"IF(G14>TIME(23,59,59),data_fill!$D$3,0)","v":0},null,{"$f":"IF(K14=\"ja\",28*0.2,0)","v":0},{"$f":"IF(L14=\"ja\",28*0.4,0)","v":0},{"$f":"IF(M14=\"ja\",28*0.4,0)","v":0},0,{"$f":"IF(ISNUMBER(H14),H14,0)","v":14},14,14]
[{"$nulls":6},"","",{"$nulls":5},"",null,"",null,null,{"$f":"IF(AND($E$3<>\"\",$J$5<>\"\",$J$7<>\"\",ISNUMBER(E15),ISNUMBER(F15)),1,0)","v":0},{"$f":"IF(OR(AND(G15>TIME(8,0,0),E15>TIME(0,0,0),F15<TIME(23,59,59)),AND(E15<TIME(0,0,1),F15<TIME(23,59,59),E15<>\"\",F15<>\"\"),AND(E15>TIME(0,0,0),F15>TIME(23,59,59))),data_fill!$D$2,0)","v":0},{"$f":"IF(G15>TIME(23,59,59),data_fill!$D$3,0)","v":28},null,{"$f":"IF(K15=\"ja\",28*0.2,0)","v":0},{"$f":"IF(L15=\"ja\",28*0.4,0)","v":0},{"$f":"IF(M15=\"ja\",28*0.4,0)","v":0},0,{"$f":"IF(ISNUMBER(H15),H15,0)","v":0},0,{"$f":"IF(AB15<0.1,0,AB15)","v":0}]
[null,"Leipzig","Kundendienst","2021-05-20","08:00:00",0.78472222222222221,0.4513888888888889,14,null,null,null,"ja",null,2.7999999999999989,null,"",244,null,{"$f":"IF(AND($E$3<>\"\",$J$5<>\"\",$J$7<>\"\",ISNUMBER(E16),ISNUMBER(F16)),1,0)","v":1},{"$f":"IF(OR(AND(G16>TIME(8,0,0),E16>TIME(0,0,0),F16<TIME(23,59,59)),AND(E16<TIME(0,0,1),F16<TIME(23,59,59),E16<>\"\",F16<>\"\"),AND(E16>TIME(0,0,0),F16>TIME(23,59,59))),data_fill!$D$2,0)","v":14},{"$f":"IF(G16>TIME(23,59,59),data_fill!$D$3,0)","v":0},null,{"$f":"IF(K16=\"ja\",28*0.2,0)","v":0},{"$f":"IF(L16=\"ja\",28*0.4,0)","v":11.200000000000001},{"$f":"IF(M16=\"ja\",28*0.4,0)","v":0},11.200000000000001,{"$f":"IF(ISNUMBER(H16),H16,0)","v":14},2.7999999999999989,2.7999999999999989]
[{"$nulls":6},"","",{"$nulls":5},"",null,"",null,null,{"$f":"IF(AND($E$3<>\"\",$J$5<>\"\",$J$7<>\"\",ISNUMBER(E17),ISNUMBER(F17)),1,0)","v":0},{"$f":"IF(OR(AND(G17>TIME(8,0,0),E17>TIME(0,0,0),F17<TIME(23,59,59)),AND(E17<TIME(0,0,1),F17<TIME(23,59,59),E17<>\"\",F17<>\"\"),AND(E17>TIME(0,0,0),F17>TIME(23,59,59))),data_fill!$D$2,0)","v":0},{"$f":"IF(G17>TIME(23,59,59),data_fill!$D$3,0)","v":28},null,{"$f":"IF(K17=\"ja\",28*0.2,0)","v":0},{"$f":"IF(L17=\"ja\",28*0.4,0)","v":0},{"$f":"IF(M17=\"ja\",28*0.4,0)","v":0},0,{"$f":"IF(ISNUMBER(H17),H17,0)","v":0},0,0]
[null,"Görlitz","Kundendienst","2021-05-29","08:00:00",0.64583333333333337,0.31250000000000006,0,{"$nulls":5},0,null,"",224,null,{"$f":"IF(AND($E$3<>\"\",$J$5<>\"\",$J$7<>\"\",ISNUMBER(E18),ISNUMBER(F18)),1,0)","v":1},{"$f":"IF(OR(AND(G18>TIME(8,0,0),E18>TIME(0,0,0),F18<TIME(23,59,59)),AND(E18<TIME(0,0,1),F18<TIME(23,59,59),E18<>\"\",F18<>\"\"),AND(E18>TIME(0,0,0),F18>TIME(23,59,59))),data_fill!$D$2,0)","v":0},{"$f":"IF(G18>TIME(23,59,59),data_fill!$D$3,0)","v":0},null,{"$f":"IF(K18=\"ja\",28*0.2,0)","v":0},{"$f":"IF(L18=\"ja\",28*0.4,0)","v":0},{"$f":"IF(M18=\"ja\",28*0.4,0)","v":0},0,{"$f":"IF(ISNUMBER(H18),H18,0)","v":0},0,0]
[{"$nulls":6},"","",{"$nulls":5},"",null,"",null,null,{"$f":"IF(AND($E$3<>\"\",$J$5<>\"\",$J$7<>\"\",ISNUMBER(E19),ISNUMBER(F19)),1,0)","v":0},{"$f":"IF(OR(AND(G19>TIME(8,0,0),E19>TIME(0,0,0),F19<TIME(23,59,59)),AND(E19<TIME(0,0,1),F19<TIME(23,59,59),E19<>\"\",F19<>\"\"),AND(E19>TIME(0,0,0),F19>TIME(23,59,59))),data_fill!$D$2,0)","v":0},{"$f":"IF(G19>TIME(23,59,59),data_fill!$D$3,0)","v":28},null,{"$f":"IF(K19=\"ja\",28*0.2,0)","v":0},{"$f":"IF(L19=\"ja\",28*0.4,0)","v":0},{"$f":"IF(M19=\"ja\",28*0.4,0)","v":0},0,{"$f":"IF(ISNUMBER(H19),H19,0)","v":0},0,0]
[{"$nulls":6},"","",{"$nulls":5},"",null,"",null,null,{"$f":"IF(AND($E$3<>\"\",$J$5<>\"\",$J$7<>\"\",ISNUMBER(E20),ISNUMBER(F20)),1,0)","v":0},{"$f":"IF(OR(AND(G20>TIME(8,0,0),E20>TIME(0,0,0),F20<TIME(23,59,59)),AND(E20<TIME(0,0,1),F20<TIME(23,59,59),E20<>\"\",F20<>\"\"),AND(E20>TIME(0,0,0),F20>TIME(23,59,59))),data_fill!$D$2,0)","v":0},{"$f":"IF(G20>TIME(23,59,59),data_fill!$D$3,0)","v":28},null,{"$f":"IF(K20=\"ja\",28*0.2,0)","v":0},{"$f":"IF(L20=\"ja\",28*0.4,0)","v":0},{"$f":"IF(M20=\"ja\",28*0.4,0)","v":0},0,{"$f":"IF(ISNUMBER(H20),H20,0)","v":0},0,0]
[{"$nulls":6},"","",{"$nulls":5},"",null,"",null,null,{"$f":"IF(AND($E$3<>\"\",$J$5<>\"\",$J$7<>\"\",ISNUMBER(E21),ISNUMBER(F21)),1,0)","v":0},{"$f":"IF(OR(AND(G21>TIME(8,0,0),E21>TIME(0,0,0),F21<TIME(23,59,59)),AND(E21<TIME(0,0,1),F21<TIME(23,59,59),E21<>\"\",F21<>\"\"),AND(E21>TIME(0,0,0),F21>TIME(23,59,59))),data_fill!$D$2,0)","v":0},{"$f":"IF(G21>TIME(23,59,59),data_fill!$D$3,0)","v":28},null,{"$f":"IF(K21=\"ja\",28*0.2,0)","v":0},{"$f":"IF(L21=\"ja\",28*0.4,0)","v":0},{"$f":"IF(M21=\"ja\",28*0.4,0)","v":0},0,{"$f":"IF(ISNUMBER(H21),H21,0)","v":0},0,0]
[{"$nulls":6},"","",{"$nulls":5},"",null,"",null,null,{"$f":"IF(AND($E$3<>\"\",$J$5<>\"\",$J$7<>\"\",ISNUMBER(E22),ISNUMBER(F22)),1,0)","v":0},{"$f":"IF(OR(AND(G22>TIME(8,0,0),E22>TIME(0,0,0),F22<TIME(23,59,59)),AND(E22<TIME(0,0,1),F22<TIME(23,59,59),E22<>\"\",F22<>\"\"),AND(E22>TIME(0,0,0),F22>TIME(23,59,59))),data_fill!$D$2,0)","v":0},{"$f":"IF(G22>TIME(23,59,59),data_fill!$D$3,0)","v":28},null,{"$f":"IF(K22=\"ja\",28*0.2,0)","v":0},{"$f":"IF(L22=\"ja\",28*0.4,0)","v":0},{"$f":"IF(M22=\"ja\",28*0.4,0)","v":0},0,{"$f":"IF(ISNUMBER(H22),H22,0)","v":0},0,0]
[{"$nulls":6},"","",{"$nulls":5},"",null,"",null,null,{"$f":"IF(AND($E$3<>\"\",$J$5<>\"\",$J$7<>\"\",ISNUMBER(E23),ISNUMBER(F23)),1,0)","v":0},{"$f":"IF(OR(AND(G23>TIME(8,0,0),E23>TIME(0,0,0),F23<TIME(23,59,59)),AND(E23<TIME(0,0,1),F23<TIME(23,59,59),E23<>\"\",F23<>\"\"),AND(E23>TIME(0,0,0),F23>TIME(23,59,59))),data_fill!$D$2,0)","v":0},{"$f":"IF(G23>TIME(23,59,59),data_fill!$D$3,0)","v":28},null,{"$f":"IF(K23=\"ja\",28*0.2,0)","v":0},{"$f":"IF(L23=\"ja\",28*0.4,0)","v":0},{"$f":"IF(M23=\"ja\",28*0.4,0)","v":0},0,{"$f":"IF(ISNUMBER(H23),H23,0)","v":0},0,0]
[null,"Summe",{"$nulls":11},{"$f":"SUM(N12:N23)","v":42},{"$f":"SUM(O12:O23)","v":100},{"$f":"SUM(P12:P23)","v":20},{"$f":"SUM(Q12:Q23)","v":1435}]
[]
[null,"Auszahlungen"]
[null,"Summe Verpflegungsmehraufwendungen abzgl. anzurechnende F, M, A",{"$nulls":10},{"$f":"Z26","v":0}]
[]
[null,"Übernachtungskosten",{"$nulls":10},{"$f":"SUM(J30:J31)","v":120}]
[null,null,"Hotel (mit Nachweis)",{"$nulls":6},{"$f":"O24","v":100}]
[null,null,"Pauschal",{"$nulls":6},{"$f":"P24","v":20}]
[]
[null,"Fahrtkosten (Pkw)",{"$nulls":10},{"$f":"$H$34*$D$34","v":430.5}]
[null,null,"Summe km:",{"$f":"$Q$24","v":1435},null,"pauschal pro Kilometer:",null,{"$f":"data_fill!$D$5","v":0.3}]
[]
[null,"sonstige Kosten lt. Nachweis (z. B. Parkkosten, Autobahngebühren)",{"$nulls":10},5]
[]
[null,"Auszahlung der Reisekosten für",null,null,{"$f":"IF((($E$3)=\"Bitte auswählen!\"),\" \",$E$3)","v":"Mai"},{"$nulls":7},{"$f":"SUM(M27+M29+M33+M36)","v":555.5}]

{"sheet":"data_fill","index":2,"n_rows":9,"n_cols":4,"rows_kept":9,"cut":false,"hidden":true,"merged":[]}
["Pauschalen"]
["Ab 8 Stunden ",null,null,14]
["Abwesenheit von 24 Stunden",null,null,28]
[]
["Kilometerpauschale",null,null,0.3]
[]
["DropDown"]
["ja"]
["nein"]