{"text_format":"2","workbook":"xlsx","n_sheets":4,"sheets":["Reisekostenabrechnung","Bearbeitungshinweise","VMA2016","Sonst. Bezüge"],"not_rendered":{"charts":0,"images":1,"macros":0,"external_links":1,"defined_names":16,"comments":0,"pivot_tables":0},"unopened":[],"bounds":{"document_bytes":16777216,"sheet_cells":100000,"run_cost":"one","rows_first":2000,"rows_last":500,"rows_between":2000,"halvings":0,"cell_chars":16384,"cell_head_chars":4096},"cells_cut":0,"cells_raw":0,"read":"whole","date_system":"1900"}

{"sheet":"Reisekostenabrechnung","index":0,"n_rows":34,"n_cols":37,"rows_kept":34,"cut":false,"hidden":false,"merged":[[8,32,8,36],[8,23,8,30],[28,10,28,11],[6,1,6,7],[7,4,7,7],[6,21,7,21],[22,18,22,21],[24,18,24,21],[7,2,7,3],[6,8,7,12],[6,13,7,20],[24,1,24,4],[8,4,8,5],[8,13,8,14],[8,15,8,17],[9,9,9,10],[30,1,30,16],[33,1,33,21],[27,18,27,21],[30,18,30,21],[32,18,32,21],[32,1,32,4],[0,1,0,21],[2,5,2,7],[4,1,4,6],[2,10,2,12],[4,10,4,19],[4,20,4,21],[2,13,2,21],[2,1,2,4]]}
[null,"Reisekostenabrechnung (Ausland) 2021"]
[]
["ACHTUNG:","Für den Zeitraum:",{"$nulls":8},"Name:"]
[]
[{"$f":"\"--> blaue Felder = Eingabefelder\"","v":"--> blaue Felder = Eingabefelder"},"Ich bin Arbeitnehmer:",{"$nulls":8},"Ich erstelle die Abrechnung für meine Einkommensteuererklärung:"]
[]
[{"$f":"\"--> Roter Rahmen = Pflichteingabe\"","v":"--> Roter Rahmen = Pflichteingabe"},"Reisedaten für Auslandsreisen",{"$nulls":6},"Reisezeiten\n(einschließlich Dauer der Inlandsreisen am gleichen Tag)",{"$nulls":4},"Übernachtung",{"$nulls":7},"Fahrt-kosten"]
[null,"Allgemein","Eintägig",null,"Mehrtägig"]
["Bearbeitungshinweise","Reisezweck\nund\nStadt","Reiseziel ","Mit (Dienst-)Reise im Inland am gleichen Tag?","Reise\n(Bei Tagen mit Abwesenheiten von 24 Stunden nur das Feld \"Nach\" ausfüllen)",null,"Tag der Landung bzw. Ein- oder Ausschiffung","Tätigkeit an diesem Tag augeübt? Falls ja, zuletzt in:\n(Nur bei Länderwechsel)","Reisetag","Beginn","Ende","Dauer","Verpflegungs-pauschale (VP)","Übernachtung",null,"Wurden bestimmte Mahlzeiten gestellt bzw. separat abgerechnet?",null,null,"Pauschale abzgl. Kürzungen","Nachweis \n(z. B. Hotelrechnung lt. Anlage)","Pauschal \n(nur ohne Nachweis)","gefahrene Strecke (gesamt)",null,"Berechnung der VMA-Kürzung",{"$nulls":8},"Berechnungsgrundlagen für die Ermittlung des Wertes in Spalte M"]
[null,"Erläuterungen","Land","Ja\nNein","Von \nLand","Nach\nLand","Datum","Land","Datum","Zeit",null,"Std.","EUR","Ja\nNein","Hotel (Name)","Frühstück","Mittagessen","Abendessen","EUR","EUR","EUR","km",null,"Frühstück","Mittagessen","Abendessen","Kürzung Gesamt","VMAabzgl. Kürzung","VMA","Max ","Erstattung",null,"Pflichtangaben gemacht?","1-tägige Reise?","An- bzw. Abreise ohne Tätigwerden?","An- bzw. Abreise mit Tätigwerden?","ganztätige Abwesenheit?"]
[{"$nulls":11},{"$f":"IF(AND(ISNUMBER(I11),ISNUMBER(J11),ISNUMBER(K11)),(K11-J11),\"\")","v":""},{"$f":"IF(AG11=1,SUM(AH11:AK11),\"\")","v":""},{"$nulls":5},{"$f":"AE11","v":0},null,{"$f":"IF(AND($H$5=\"ja\",N11=\"ja\",T11=0,$U$5=\"nein\"),IF(C11<>\"\",VLOOKUP(C11,'VMA2016'!A1:D242,4,),VLOOKUP(F11,'VMA2016'!A1:D242,4,)),\"\")","v":""},null,null,{"$f":"IF(AND(P11=\"JA\",C11<>\"\"),(VLOOKUP(C11,'VMA2016'!A2:D243,2,0)*0.2),IF(AND(P11=\"ja\",F11<>\"\"),(VLOOKUP(F11,'VMA2016'!A2:D243,2,0)*0.2),))","v":0},{"$f":"IF(AND(Q11=\"JA\",C11<>\"\"),(VLOOKUP(C11,'VMA2016'!A2:D243,2,0)*0.4),IF(AND(Q11=\"ja\",F11<>\"\"),(VLOOKUP(F11,'VMA2016'!A2:D243,2,0)*0.4),))","v":0},{"$f":"IF(AND(R11=\"JA\",C11<>\"\"),(VLOOKUP(C11,'VMA2016'!A2:D243,2,0)*0.4),IF(AND(R11=\"ja\",F11<>\"\"),(VLOOKUP(F11,'VMA2016'!A2:D243,2,0)*0.4),))","v":0},{"$f":"SUM(X11:Z11)","v":0},{"$f":"IF(M11<>\"\",M11-AA11,0)","v":0},{"$f":"M11","v":""},{"$f":"IF(((M11-AA11)>0),(M11-AA11),AC11)","v":{"$error":"#VALUE!"}},{"$f":"IF((AB11<=0),0,AD11)","v":0},null,{"$f":"IF(AND(I11<>\"\",$F$3<>\"\",$H$5<>\"\",$U$5<>\"\",ISNUMBER(L11)),1,0)","v":0},{"$f":"IF(AND(C11<>\"\",L11>TIME(8,,)),VLOOKUP(C11,'VMA2016'!$A$3:$D$244,3,),0)","v":0},{"$f":"IF(OR(AND(H11=\"\",F11<>\"\",L11>TIME(8,,),L11<TIME(23,59,59)),AND(H11=\"\",J11<TIME(,,1),L11<TIME(23,59,59),J11<>\"\"),AND(H11=\"\",K11>TIME(23,59,59),L11<TIME(8,,1))),VLOOKUP(F11,'VMA2016'!$A$3:$D$244,3,),0)","v":0},{"$f":"IF(AND(H11<>\"\",L11<TIME(23,59,59)),VLOOKUP(H11,'VMA2016'!$A$3:$D$244,3,),0)","v":0},{"$f":"IF(L11>TIME(23,59,59),VLOOKUP(F11,'VMA2016'!$A$3:$D$244,2),0)","v":{"$error":"#N/A"}}]
[{"$nulls":11},{"$f":"IF(AND(ISNUMBER(I12),ISNUMBER(J12),ISNUMBER(K12)),(K12-J12),\"\")","v":""},"",{"$nulls":5},{"$f":"AE12","v":0},null,{"$f":"IF(AND($H$5=\"ja\",N12=\"ja\",T12=0,$U$5=\"nein\"),IF(C12<>\"\",VLOOKUP(C12,'VMA2016'!A2:D243,4,),VLOOKUP(F12,'VMA2016'!A2:D243,4,)),\"\")","v":""},null,null,{"$f":"IF(AND(P12=\"JA\",C12<>\"\"),(VLOOKUP(C12,'VMA2016'!A3:D244,2,0)*0.2),IF(AND(P12=\"ja\",F12<>\"\"),(VLOOKUP(F12,'VMA2016'!A3:D244,2,0)*0.2),))","v":0},{"$f":"IF(AND(Q12=\"JA\",C12<>\"\"),(VLOOKUP(C12,'VMA2016'!A3:D244,2,0)*0.4),IF(AND(Q12=\"ja\",F12<>\"\"),(VLOOKUP(F12,'VMA2016'!A3:D244,2,0)*0.4),))","v":0},{"$f":"IF(AND(R12=\"JA\",C12<>\"\"),(VLOOKUP(C12,'VMA2016'!A3:D244,2,0)*0.4),IF(AND(R12=\"ja\",F12<>\"\"),(VLOOKUP(F12,'VMA2016'!A3:D244,2,0)*0.4),))","v":0},0,{"$f":"IF(M12<>\"\",M12-AA12,0)","v":0},"",{"$error":"#VALUE!"},{"$f":"IF((AB12<=0),0,AD12)","v":0},null,{"$f":"IF(AND(I12<>\"\",$F$3<>\"\",$H$5<>\"\",$U$5<>\"\",ISNUMBER(L12)),1,0)","v":0},{"$f":"IF(AND(C12<>\"\",L12>TIME(8,,)),VLOOKUP(C12,'VMA2016'!$A$3:$D$244,3,),0)","v":0},{"$f":"IF(OR(AND(H12=\"\",F12<>\"\",L12>TIME(8,,),L12<TIME(23,59,59)),AND(H12=\"\",J12<TIME(,,1),L12<TIME(23,59,59),J12<>\"\"),AND(H12=\"\",K12>TIME(23,59,59),L12<TIME(8,,1))),VLOOKUP(F12,'VMA2016'!$A$3:$D$244,3,),0)","v":0},{"$f":"IF(AND(H12<>\"\",L12<TIME(23,59,59)),VLOOKUP(H12,'VMA2016'!$A$3:$D$244,3,),0)","v":0},{"$f":"IF(L12>TIME(23,59,59),VLOOKUP(F12,'VMA2016'!$A$3:$D$244,2),0)","v":{"$error":"#N/A"}}]
[{"$nulls":11},"","",{"$nulls":5},{"$f":"AE13","v":0},null,{"$f":"IF(AND($H$5=\"ja\",N13=\"ja\",T13=0,$U$5=\"nein\"),IF(C13<>\"\",VLOOKUP(C13,'VMA2016'!A3:D244,4,),VLOOKUP(F13,'VMA2016'!A3:D244,4,)),\"\")","v":""},null,null,{"$f":"IF(AND(P13=\"JA\",C13<>\"\"),(VLOOKUP(C13,'VMA2016'!A4:D245,2,0)*0.2),IF(AND(P13=\"ja\",F13<>\"\"),(VLOOKUP(F13,'VMA2016'!A4:D245,2,0)*0.2),))","v":0},{"$f":"IF(AND(Q13=\"JA\",C13<>\"\"),(VLOOKUP(C13,'VMA2016'!A4:D245,2,0)*0.4),IF(AND(Q13=\"ja\",F13<>\"\"),(VLOOKUP(F13,'VMA2016'!A4:D245,2,0)*0.4),))","v":0},{"$f":"IF(AND(R13=\"JA\",C13<>\"\"),(VLOOKUP(C13,'VMA2016'!A4:D245,2,0)*0.4),IF(AND(R13=\"ja\",F13<>\"\"),(VLOOKUP(F13,'VMA2016'!A4:D245,2,0)*0.4),))","v":0},0,0,"",{"$error":"#VALUE!"},{"$f":"IF((AB13<=0),0,AD13)","v":0},null,0,{"$f":"IF(AND(C13<>\"\",L13>TIME(8,,)),VLOOKUP(C13,'VMA2016'!$A$3:$D$244,3,),0)","v":0},{"$f":"IF(OR(AND(H13=\"\",F13<>\"\",L13>TIME(8,,),L13<TIME(23,59,59)),AND(H13=\"\",J13<TIME(,,1),L13<TIME(23,59,59),J13<>\"\"),AND(H13=\"\",K13>TIME(23,59,59),L13<TIME(8,,1))),VLOOKUP(F13,'VMA2016'!$A$3:$D$244,3,),0)","v":0},{"$f":"IF(AND(H13<>\"\",L13<TIME(23,59,59)),VLOOKUP(H13,'VMA2016'!$A$3:$D$244,3,),0)","v":0},{"$f":"IF(L13>TIME(23,59,59),VLOOKUP(F13,'VMA2016'!$A$3:$D$244,2),0)","v":{"$error":"#N/A"}}]
[{"$nulls":11},"","",{"$nulls":5},0,null,{"$f":"IF(AND($H$5=\"ja\",N14=\"ja\",T14=0,$U$5=\"nein\"),IF(C14<>\"\",VLOOKUP(C14,'VMA2016'!A4:D245,4,),VLOOKUP(F14,'VMA2016'!A4:D245,4,)),\"\")","v":""},null,null,{"$f":"IF(AND(P14=\"JA\",C14<>\"\"),(VLOOKUP(C14,'VMA2016'!A5:D246,2,0)*0.2),IF(AND(P14=\"ja\",F14<>\"\"),(VLOOKUP(F14,'VMA2016'!A5:D246,2,0)*0.2),))","v":0},{"$f":"IF(AND(Q14=\"JA\",C14<>\"\"),(VLOOKUP(C14,'VMA2016'!A5:D246,2,0)*0.4),IF(AND(Q14=\"ja\",F14<>\"\"),(VLOOKUP(F14,'VMA2016'!A5:D246,2,0)*0.4),))","v":0},{"$f":"IF(AND(R14=\"JA\",C14<>\"\"),(VLOOKUP(C14,'VMA2016'!A5:D246,2,0)*0.4),IF(AND(R14=\"ja\",F14<>\"\"),(VLOOKUP(F14,'VMA2016'!A5:D246,2,0)*0.4),))","v":0},0,0,"",{"$error":"#VALUE!"},0,null,0,{"$f":"IF(AND(C14<>\"\",L14>TIME(8,,)),VLOOKUP(C14,'VMA2016'!$A$3:$D$244,3,),0)","v":0},{"$f":"IF(OR(AND(H14=\"\",F14<>\"\",L14>TIME(8,,),L14<TIME(23,59,59)),AND(H14=\"\",J14<TIME(,,1),L14<TIME(23,59,59),J14<>\"\"),AND(H14=\"\",K14>TIME(23,59,59),L14<TIME(8,,1))),VLOOKUP(F14,'VMA2016'!$A$3:$D$244,3,),0)","v":0},{"$f":"IF(AND(H14<>\"\",L14<TIME(23,59,59)),VLOOKUP(H14,'VMA2016'!$A$3:$D$244,3,),0)","v":0},{"$f":"IF(L14>TIME(23,59,59),VLOOKUP(F14,'VMA2016'!$A$3:$D$244,2),0)","v":{"$error":"#N/A"}}]
[{"$nulls":11},"",{"$f":"IF(AG15=1,SUM(AH15:AK15),\"\")","v":""},{"$nulls":5},0,null,{"$f":"IF(AND($H$5=\"ja\",N15=\"ja\",T15=0,$U$5=\"nein\"),IF(C15<>\"\",VLOOKUP(C15,'VMA2016'!A5:D246,4,),VLOOKUP(F15,'VMA2016'!A5:D246,4,)),\"\")","v":""},null,null,{"$f":"IF(AND(P15=\"JA\",C15<>\"\"),(VLOOKUP(C15,'VMA2016'!A6:D247,2,0)*0.2),IF(AND(P15=\"ja\",F15<>\"\"),(VLOOKUP(F15,'VMA2016'!A6:D247,2,0)*0.2),))","v":0},{"$f":"IF(AND(Q15=\"JA\",C15<>\"\"),(VLOOKUP(C15,'VMA2016'!A6:D247,2,0)*0.4),IF(AND(Q15=\"ja\",F15<>\"\"),(VLOOKUP(F15,'VMA2016'!A6:D247,2,0)*0.4),))","v":0},{"$f":"IF(AND(R15=\"JA\",C15<>\"\"),(VLOOKUP(C15,'VMA2016'!A6:D247,2,0)*0.4),IF(AND(R15=\"ja\",F15<>\"\"),(VLOOKUP(F15,'VMA2016'!A6:D247,2,0)*0.4),))","v":0},0,0,"",{"$error":"#VALUE!"},0,null,0,{"$f":"IF(AND(C15<>\"\",L15>TIME(8,,)),VLOOKUP(C15,'VMA2016'!$A$3:$D$244,3,),0)","v":0},{"$f":"IF(OR(AND(H15=\"\",F15<>\"\",L15>TIME(8,,),L15<TIME(23,59,59)),AND(H15=\"\",J15<TIME(,,1),L15<TIME(23,59,59),J15<>\"\"),AND(H15=\"\",K15>TIME(23,59,59),L15<TIME(8,,1))),VLOOKUP(F15,'VMA2016'!$A$3:$D$244,3,),0)","v":0},{"$f":"IF(AND(H15<>\"\",L15<TIME(23,59,59)),VLOOKUP(H15,'VMA2016'!$A$3:$D$244,3,),0)","v":0},{"$f":"IF(L15>TIME(23,59,59),VLOOKUP(F15,'VMA2016'!$A$3:$D$244,2),0)","v":{"$error":"#N/A"}}]
[{"$nulls":11},"","",{"$nulls":5},0,null,{"$f":"IF(AND($H$5=\"ja\",N16=\"ja\",T16=0,$U$5=\"nein\"),IF(C16<>\"\",VLOOKUP(C16,'VMA2016'!A6:D247,4,),VLOOKUP(F16,'VMA2016'!A6:D247,4,)),\"\")","v":""},null,null,{"$f":"IF(AND(P16=\"JA\",C16<>\"\"),(VLOOKUP(C16,'VMA2016'!A7:D248,2,0)*0.2),IF(AND(P16=\"ja\",F16<>\"\"),(VLOOKUP(F16,'VMA2016'!A7:D248,2,0)*0.2),))","v":0},{"$f":"IF(AND(Q16=\"JA\",C16<>\"\"),(VLOOKUP(C16,'VMA2016'!A7:D248,2,0)*0.4),IF(AND(Q16=\"ja\",F16<>\"\"),(VLOOKUP(F16,'VMA2016'!A7:D248,2,0)*0.4),))","v":0},{"$f":"IF(AND(R16=\"JA\",C16<>\"\"),(VLOOKUP(C16,'VMA2016'!A7:D248,2,0)*0.4),IF(AND(R16=\"ja\",F16<>\"\"),(VLOOKUP(F16,'VMA2016'!A7:D248,2,0)*0.4),))","v":0},0,0,"",{"$error":"#VALUE!"},0,null,0,{"$f":"IF(AND(C16<>\"\",L16>TIME(8,,)),VLOOKUP(C16,'VMA2016'!$A$3:$D$244,3,),0)","v":0},{"$f":"IF(OR(AND(H16=\"\",F16<>\"\",L16>TIME(8,,),L16<TIME(23,59,59)),AND(H16=\"\",J16<TIME(,,1),L16<TIME(23,59,59),J16<>\"\"),AND(H16=\"\",K16>TIME(23,59,59),L16<TIME(8,,1))),VLOOKUP(F16,'VMA2016'!$A$3:$D$244,3,),0)","v":0},{"$f":"IF(AND(H16<>\"\",L16<TIME(23,59,59)),VLOOKUP(H16,'VMA2016'!$A$3:$D$244,3,),0)","v":0},{"$f":"IF(L16>TIME(23,59,59),VLOOKUP(F16,'VMA2016'!$A$3:$D$244,2),0)","v":{"$error":"#N/A"}}]
[{"$nulls":11},"","",{"$nulls":5},0,null,{"$f":"IF(AND($H$5=\"ja\",N17=\"ja\",T17=0,$U$5=\"nein\"),IF(C17<>\"\",VLOOKUP(C17,'VMA2016'!A7:D248,4,),VLOOKUP(F17,'VMA2016'!A7:D248,4,)),\"\")","v":""},null,null,{"$f":"IF(AND(P17=\"JA\",C17<>\"\"),(VLOOKUP(C17,'VMA2016'!A8:D249,2,0)*0.2),IF(AND(P17=\"ja\",F17<>\"\"),(VLOOKUP(F17,'VMA2016'!A8:D249,2,0)*0.2),))","v":0},{"$f":"IF(AND(Q17=\"JA\",C17<>\"\"),(VLOOKUP(C17,'VMA2016'!A8:D249,2,0)*0.4),IF(AND(Q17=\"ja\",F17<>\"\"),(VLOOKUP(F17,'VMA2016'!A8:D249,2,0)*0.4),))","v":0},{"$f":"IF(AND(R17=\"JA\",C17<>\"\"),(VLOOKUP(C17,'VMA2016'!A8:D249,2,0)*0.4),IF(AND(R17=\"ja\",F17<>\"\"),(VLOOKUP(F17,'VMA2016'!A8:D249,2,0)*0.4),))","v":0},0,0,"",{"$error":"#VALUE!"},0,null,0,{"$f":"IF(AND(C17<>\"\",L17>TIME(8,,)),VLOOKUP(C17,'VMA2016'!$A$3:$D$244,3,),0)","v":0},{"$f":"IF(OR(AND(H17=\"\",F17<>\"\",L17>TIME(8,,),L17<TIME(23,59,59)),AND(H17=\"\",J17<TIME(,,1),L17<TIME(23,59,59),J17<>\"\"),AND(H17=\"\",K17>TIME(23,59,59),L17<TIME(8,,1))),VLOOKUP(F17,'VMA2016'!$A$3:$D$244,3,),0)","v":0},{"$f":"IF(AND(H17<>\"\",L17<TIME(23,59,59)),VLOOKUP(H17,'VMA2016'!$A$3:$D$244,3,),0)","v":0},{"$f":"IF(L17>TIME(23,59,59),VLOOKUP(F17,'VMA2016'!$A$3:$D$244,2),0)","v":{"$error":"#N/A"}}]
[{"$nulls":11},"","",{"$nulls":5},{"$f":"AE18","v":0},null,{"$f":"IF(AND($H$5=\"ja\",N18=\"ja\",T18=0,$U$5=\"nein\"),IF(C18<>\"\",VLOOKUP(C18,'VMA2016'!A8:D249,4,),VLOOKUP(F18,'VMA2016'!A8:D249,4,)),\"\")","v":""},null,null,{"$f":"IF(AND(P18=\"JA\",C18<>\"\"),(VLOOKUP(C18,'VMA2016'!A9:D250,2,0)*0.2),IF(AND(P18=\"ja\",F18<>\"\"),(VLOOKUP(F18,'VMA2016'!A9:D250,2,0)*0.2),))","v":0},{"$f":"IF(AND(Q18=\"JA\",C18<>\"\"),(VLOOKUP(C18,'VMA2016'!A9:D250,2,0)*0.4),IF(AND(Q18=\"ja\",F18<>\"\"),(VLOOKUP(F18,'VMA2016'!A9:D250,2,0)*0.4),))","v":0},{"$f":"IF(AND(R18=\"JA\",C18<>\"\"),(VLOOKUP(C18,'VMA2016'!A9:D250,2,0)*0.4),IF(AND(R18=\"ja\",F18<>\"\"),(VLOOKUP(F18,'VMA2016'!A9:D250,2,0)*0.4),))","v":0},0,0,"",{"$f":"IF(((M18-AA18)>0),(M18-AA18),0)","v":{"$error":"#VALUE!"}},0,null,0,{"$f":"IF(AND(C18<>\"\",L18>TIME(8,,)),VLOOKUP(C18,'VMA2016'!$A$3:$D$244,3,),0)","v":0},{"$f":"IF(OR(AND(H18=\"\",F18<>\"\",L18>TIME(8,,),L18<TIME(23,59,59)),AND(H18=\"\",J18<TIME(,,1),L18<TIME(23,59,59),J18<>\"\"),AND(H18=\"\",K18>TIME(23,59,59),L18<TIME(8,,1))),VLOOKUP(F18,'VMA2016'!$A$3:$D$244,3,),0)","v":0},{"$f":"IF(AND(H18<>\"\",L18<TIME(23,59,59)),VLOOKUP(H18,'VMA2016'!$A$3:$D$244,3,),0)","v":0},{"$f":"IF(L18>TIME(23,59,59),VLOOKUP(F18,'VMA2016'!$A$3:$D$244,2),0)","v":{"$error":"#N/A"}}]
[{"$nulls":11},"","",{"$nulls":5},0,null,{"$f":"IF(AND($H$5=\"ja\",N19=\"ja\",T19=0,$U$5=\"nein\"),IF(C19<>\"\",VLOOKUP(C19,'VMA2016'!A9:D250,4,),VLOOKUP(F19,'VMA2016'!A9:D250,4,)),\"\")","v":""},null,null,{"$f":"IF(AND(P19=\"JA\",C19<>\"\"),(VLOOKUP(C19,'VMA2016'!A14:D255,2,0)*0.2),IF(AND(P19=\"ja\",F19<>\"\"),(VLOOKUP(F19,'VMA2016'!A14:D255,2,0)*0.2),))","v":0},{"$f":"IF(AND(Q19=\"JA\",C19<>\"\"),(VLOOKUP(C19,'VMA2016'!A14:D255,2,0)*0.4),IF(AND(Q19=\"ja\",F19<>\"\"),(VLOOKUP(F19,'VMA2016'!A14:D255,2,0)*0.4),))","v":0},{"$f":"IF(AND(R19=\"JA\",C19<>\"\"),(VLOOKUP(C19,'VMA2016'!A14:D255,2,0)*0.4),IF(AND(R19=\"ja\",F19<>\"\"),(VLOOKUP(F19,'VMA2016'!A14:D255,2,0)*0.4),))","v":0},0,0,"",{"$f":"IF(((M19-AA19)>0),(M19-AA19),0)","v":{"$error":"#VALUE!"}},{"$f":"IF((AB19<=0),0,AD19)","v":0},null,0,{"$f":"IF(AND(C19<>\"\",L19>TIME(8,,)),VLOOKUP(C19,'VMA2016'!$A$3:$D$244,3,),0)","v":0},{"$f":"IF(OR(AND(H19=\"\",F19<>\"\",L19>TIME(8,,),L19<TIME(23,59,59)),AND(H19=\"\",J19<TIME(,,1),L19<TIME(23,59,59),J19<>\"\"),AND(H19=\"\",K19>TIME(23,59,59),L19<TIME(8,,1))),VLOOKUP(F19,'VMA2016'!$A$3:$D$244,3,),0)","v":0},{"$f":"IF(AND(H19<>\"\",L19<TIME(23,59,59)),VLOOKUP(H19,'VMA2016'!$A$3:$D$244,3,),0)","v":0},{"$f":"IF(L19>TIME(23,59,59),VLOOKUP(F19,'VMA2016'!$A$3:$D$244,2),0)","v":{"$error":"#N/A"}}]
[{"$nulls":11},"",{"$f":"IF(AG20=1,SUM(AH20:AK20),\"\")","v":""},{"$nulls":5},0,null,{"$f":"IF(AND($H$5=\"ja\",N20=\"ja\",T20=0,$U$5=\"nein\"),IF(C20<>\"\",VLOOKUP(C20,'VMA2016'!A10:D251,4,),VLOOKUP(F20,'VMA2016'!A10:D251,4,)),\"\")","v":""},null,null,{"$f":"IF(AND(P20=\"JA\",C20<>\"\"),(VLOOKUP(C20,'VMA2016'!A15:D256,2,0)*0.2),IF(AND(P20=\"ja\",F20<>\"\"),(VLOOKUP(F20,'VMA2016'!A15:D256,2,0)*0.2),))","v":0},{"$f":"IF(AND(Q20=\"JA\",C20<>\"\"),(VLOOKUP(C20,'VMA2016'!A15:D256,2,0)*0.4),IF(AND(Q20=\"ja\",F20<>\"\"),(VLOOKUP(F20,'VMA2016'!A15:D256,2,0)*0.4),))","v":0},{"$f":"IF(AND(R20=\"JA\",C20<>\"\"),(VLOOKUP(C20,'VMA2016'!A15:D256,2,0)*0.4),IF(AND(R20=\"ja\",F20<>\"\"),(VLOOKUP(F20,'VMA2016'!A15:D256,2,0)*0.4),))","v":0},0,0,"",{"$f":"IF(((M20-AA20)>0),(M20-AA20),0)","v":{"$error":"#VALUE!"}},{"$f":"IF((AB20<=0),0,AD20)","v":0},null,0,{"$f":"IF(AND(C20<>\"\",L20>TIME(8,,)),VLOOKUP(C20,'VMA2016'!$A$3:$D$244,3,),0)","v":0},{"$f":"IF(OR(AND(H20=\"\",F20<>\"\",L20>TIME(8,,),L20<TIME(23,59,59)),AND(H20=\"\",J20<TIME(,,1),L20<TIME(23,59,59),J20<>\"\"),AND(H20=\"\",K20>TIME(23,59,59),L20<TIME(8,,1))),VLOOKUP(F20,'VMA2016'!$A$3:$D$244,3,),0)","v":0},{"$f":"IF(AND(H20<>\"\",L20<TIME(23,59,59)),VLOOKUP(H20,'VMA2016'!$A$3:$D$244,3,),0)","v":0},{"$f":"IF(L20>TIME(23,59,59),VLOOKUP(F20,'VMA2016'!$A$3:$D$244,2),0)","v":{"$error":"#N/A"}}]
[null,"Summe",{"$nulls":16},{"$f":"SUM(S11:S20)","v":0},{"$f":"SUM(T11:T20)","v":0},{"$f":"SUM(U11:U20)","v":0},{"$f":"SUM(V11:V20)","v":0}]
[]
[null,"Verpflegungsmehraufwendungen abzgl. anzurechnender, gestellter Mahlzeiten",{"$nulls":16},{"$f":"S21","v":0}]
[]
[null,"Übernachtungskosten",{"$nulls":16},{"$f":"I26+E26","v":0}]
[null,null,"Nachweise:",null,{"$f":"T21","v":0},null,"Pauschal:",null,{"$f":"U21","v":0}]
[]
[null,"Fahrtkosten ",{"$nulls":16},{"$f":"K29","v":0}]
[null,null,"Pkw:",null,"Summe km:",{"$f":"$V$21","v":0},null,"pauschal pro Kilometer:",{"$f":"'Sonst. Bezüge'!B11","v":0.3},null,{"$f":"I29*F29","v":0}]
[]
[null,"sonstige Kosten lt. Anlage (z. B. Parken, Autobahngebühr, Flug-/Zug-/ÖPNV-Tickets)",{"$nulls":16},0]
[]
[null,"Auszahlung Reisekosten für den Zeitraum:",null,null,null,{"$f":"IF((($F$3)=\"Bitte auswählen!\"),\" \",$F$3)","v":0},{"$nulls":12},{"$f":"SUM(S23+S25+S28+S31)","v":0}]
[null,"Bitte beachten Sie folgendes: Alle oben abgefragten Informationen sind zur Ermittlung der Verpflegungspauschalen notwenig. Aufgrund der Komplexität des Reisekostenrechts im Hinblick auf Auslandsreisen ist eine vollständig korrekte Berechnung der Verpflegungspauschalen mithilfe dieser Arbeitshilfe jedoch nicht möglich. Eine Überprüfung durch Sachverständige ist daher zwingend erforderlich. "]

{"sheet":"Bearbeitungshinweise","index":1,"n_rows":33,"n_cols":37,"rows_kept":33,"cut":false,"hidden":false,"merged":[[8,23,8,30],[8,32,8,36],[27,18,27,21],[30,18,30,21],[32,18,32,21],[6,21,7,21],[8,15,8,17],[22,18,22,21],[24,18,24,21],[9,9,9,10],[28,10,28,11],[32,1,32,4],[32,5,32,7],[30,1,30,16],[24,1,24,4],[8,4,8,5],[8,13,8,14],[0,1,0,21],[2,1,2,4],[2,5,2,7],[4,1,4,6],[6,1,6,7],[6,8,7,12],[6,13,7,20],[7,2,7,3],[7,4,7,7],[2,13,2,21],[2,10,2,12],[4,10,4,19],[4,20,4,21]]}
[null,"Reisekostenabrechnung (Ausland) 2021"]
[]
["ACHTUNG:","Für den Zeitraum:",null,null,null,"Mai",{"$nulls":4},"Name:"]
[]
[{"$f":"\"--> blaue Felder = Eingabefelder\"","v":"--> blaue Felder = Eingabefelder"},"Ich bin Arbeitnehmer:",{"$nulls":5},"Ja",null,null,"Ich erstelle die Abrechnung für meine Einkommensteuererklärung:",{"$nulls":9},"Nein"]
[]
[{"$f":"\"--> Roter Rahmen = Pflichteingabe\"","v":"--> Roter Rahmen = Pflichteingabe"},"Reisedaten für Auslandsreisen",{"$nulls":6},"Reisezeiten\n(einschließlich Dauer der Inlandsreisen am gleichen Tag)",{"$nulls":4},"Übernachtung",{"$nulls":7},"Fahrt-kosten"]
[null,"Allgemein","Eintägig",null,"Mehrtägig"]
["Zurück","Reisezweck\nund\nStadt","Reiseziel ","Mit (Dienst-)Reise im Inland am gleichen Tag?","Reise\n(Bei Tagen mit Abwesenheiten von 24 Stunden nur das Feld \"Nach\" ausfüllen)",null,"Tag der Landung bzw. Ein- oder Ausschiffung","Tätigkeit an diesem Tag augeübt? Falls ja, zuletzt in:\n(Nur bei Länderwechsel)","Reisetag","Beginn","Ende","Dauer","Verpflegungs-pauschale (VP)","Übernachtung",null,"Wurden bestimmte Mahlzeiten gestellt bzw. separat abgerechnet?",null,null,"Pauschale abzgl. Kürzungen","Nachweis \n(z. B. Hotelrechnung lt. Anlage)","Pauschal \n(nur ohne Nachweis)","gefahrene Strecke (gesamt)",null,"Berechnung der VMA-Kürzung",{"$nulls":8},"Berechnungsgrundlagen für die Ermittlung des Wertes in Spalte M"]
[null,"Erläuterungen","Land","Ja\nNein","Von \nLand","Nach\nLand","Datum","Land","Datum","Zeit",null,"Std.","EUR","Ja\nNein","Hotel (Name)","Frühstück","Mittagessen","Abendessen","EUR","EUR","EUR","km",null,"Frühstück","Mittagessen","Abendessen","Kürzung Gesamt","VMAabzgl. Kürzung","VMA","Max ","Erstattung",null,"Pflichtangaben gemacht?","1-tägige Reise?","An- bzw. Abreise ohne Tätigwerden?","An- bzw. Abreise mit Tätigwerden?","ganztätige Abwesenheit?"]
[null,"Werksbesuch Stockholm",null,null,"Deutschland","Schweden","2020-05-02",null,"2021-05-01","21:30:00",1,{"$f":"IF(AND(ISNUMBER(I11),ISNUMBER(J11),ISNUMBER(K11)),(K11-J11),\"\")","v":0.10416666666666663},{"$f":"IF(AG11=1,SUM(AH11:AK11),\"\")","v":33},"ja","Mora Parken",null,null,null,{"$f":"AE11","v":33},null,{"$f":"IF(AND($H$5=\"ja\",N11=\"ja\",T11=0,$U$5=\"nein\"),IF(C11<>\"\",VLOOKUP(C11,'VMA2016'!A1:D242,4,),VLOOKUP(F11,'VMA2016'!A1:D242,4,)),\"\")","v":168},10,null,{"$f":"IF(AND(P11=\"JA\",C11<>\"\"),(VLOOKUP(C11,'VMA2016'!A2:D243,2,0)*0.2),IF(AND(P11=\"ja\",F11<>\"\"),(VLOOKUP(F11,'VMA2016'!A2:D243,2,0)*0.2),))","v":0},{"$f":"IF(AND(Q11=\"JA\",C11<>\"\"),(VLOOKUP(C11,'VMA2016'!A2:D243,2,0)*0.4),IF(AND(Q11=\"ja\",F11<>\"\"),(VLOOKUP(F11,'VMA2016'!A2:D243,2,0)*0.4),))","v":0},{"$f":"IF(AND(R11=\"JA\",C11<>\"\"),(VLOOKUP(C11,'VMA2016'!A2:D243,2,0)*0.4),IF(AND(R11=\"ja\",F11<>\"\"),(VLOOKUP(F11,'VMA2016'!A2:D243,2,0)*0.4),))","v":0},{"$f":"SUM(X11:Z11)","v":0},{"$f":"IF(M11<>\"\",M11-AA11,0)","v":33},{"$f":"M11","v":33},{"$f":"IF(((M11-AA11)>0),(M11-AA11),AC11)","v":33},{"$f":"IF((AB11<=0),0,AD11)","v":33},null,{"$f":"IF(AND(I11<>\"\",$F$3<>\"\",$H$5<>\"\",$U$5<>\"\",ISNUMBER(L11)),1,0)","v":1},{"$f":"IF(AND(C11<>\"\",L11>TIME(8,,)),VLOOKUP(C11,'VMA2016'!$A$3:$D$244,3,),0)","v":0},{"$f":"IF(OR(AND(H11=\"\",F11<>\"\",L11>TIME(8,,),L11<TIME(23,59,59)),AND(H11=\"\",J11<TIME(,,1),L11<TIME(23,59,59),J11<>\"\"),AND(H11=\"\",K11>TIME(23,59,59),L11<TIME(8,,1))),VLOOKUP(F11,'VMA2016'!$A$3:$D$244,3,),0)","v":33},{"$f":"IF(AND(H11<>\"\",L11<TIME(23,59,59)),VLOOKUP(H11,'VMA2016'!$A$3:$D$244,3,),0)","v":0},{"$f":"IF(L11>TIME(23,59,59),VLOOKUP(F11,'VMA2016'!$A$3:$D$244,2),0)","v":0}]
[null,"Werksbesuch Stockholm",null,null,null,"Schweden",null,null,"2021-05-02","00:00:00",1,{"$f":"IF(AND(ISNUMBER(I12),ISNUMBER(J12),ISNUMBER(K12)),(K12-J12),\"\")","v":1},{"$f":"IF(AG12=1,SUM(AH12:AK12),\"\")","v":50},"ja","Mora Parken","ja","ja",null,20,null,{"$f":"IF(AND($H$5=\"ja\",N12=\"ja\",T12=0,$U$5=\"nein\"),IF(C12<>\"\",VLOOKUP(C12,'VMA2016'!A2:D243,4,),VLOOKUP(F12,'VMA2016'!A2:D243,4,)),\"\")","v":168},null,null,{"$f":"IF(AND(P12=\"JA\",C12<>\"\"),(VLOOKUP(C12,'VMA2016'!A3:D244,2,0)*0.2),IF(AND(P12=\"ja\",F12<>\"\"),(VLOOKUP(F12,'VMA2016'!A3:D244,2,0)*0.2),))","v":10},{"$f":"IF(AND(Q12=\"JA\",C12<>\"\"),(VLOOKUP(C12,'VMA2016'!A3:D244,2,0)*0.4),IF(AND(Q12=\"ja\",F12<>\"\"),(VLOOKUP(F12,'VMA2016'!A3:D244,2,0)*0.4),))","v":20},{"$f":"IF(AND(R12=\"JA\",C12<>\"\"),(VLOOKUP(C12,'VMA2016'!A3:D244,2,0)*0.4),IF(AND(R12=\"ja\",F12<>\"\"),(VLOOKUP(F12,'VMA2016'!A3:D244,2,0)*0.4),))","v":0},30,{"$f":"IF(M12<>\"\",M12-AA12,0)","v":20},50,20,{"$f":"IF((AB12<=0),0,AD12)","v":20},null,{"$f":"IF(AND(I12<>\"\",$F$3<>\"\",$H$5<>\"\",$U$5<>\"\",ISNUMBER(L12)),1,0)","v":1},{"$f":"IF(AND(C12<>\"\",L12>TIME(8,,)),VLOOKUP(C12,'VMA2016'!$A$3:$D$244,3,),0)","v":0},{"$f":"IF(OR(AND(H12=\"\",F12<>\"\",L12>TIME(8,,),L12<TIME(23,59,59)),AND(H12=\"\",J12<TIME(,,1),L12<TIME(23,59,59),J12<>\"\"),AND(H12=\"\",K12>TIME(23,59,59),L12<TIME(8,,1))),VLOOKUP(F12,'VMA2016'!$A$3:$D$244,3,),0)","v":0},{"$f":"IF(AND(H12<>\"\",L12<TIME(23,59,59)),VLOOKUP(H12,'VMA2016'!$A$3:$D$244,3,),0)","v":0},{"$f":"IF(L12>TIME(23,59,59),VLOOKUP(F12,'VMA2016'!$A$3:$D$244,2),0)","v":50}]
[null,"Werksbesuch Stockholm",null,null,"Schweden","Deutschland","2020-05-03",null,"2021-05-03","00:00:00",0.3125,0.3125,14,{"$nulls":5},14,null,{"$f":"IF(AND($H$5=\"ja\",N13=\"ja\",T13=0,$U$5=\"nein\"),IF(C13<>\"\",VLOOKUP(C13,'VMA2016'!A3:D244,4,),VLOOKUP(F13,'VMA2016'!A3:D244,4,)),\"\")","v":""},10,null,{"$f":"IF(AND(P13=\"JA\",C13<>\"\"),(VLOOKUP(C13,'VMA2016'!A4:D245,2,0)*0.2),IF(AND(P13=\"ja\",F13<>\"\"),(VLOOKUP(F13,'VMA2016'!A4:D245,2,0)*0.2),))","v":0},{"$f":"IF(AND(Q13=\"JA\",C13<>\"\"),(VLOOKUP(C13,'VMA2016'!A4:D245,2,0)*0.4),IF(AND(Q13=\"ja\",F13<>\"\"),(VLOOKUP(F13,'VMA2016'!A4:D245,2,0)*0.4),))","v":0},{"$f":"IF(AND(R13=\"JA\",C13<>\"\"),(VLOOKUP(C13,'VMA2016'!A4:D245,2,0)*0.4),IF(AND(R13=\"ja\",F13<>\"\"),(VLOOKUP(F13,'VMA2016'!A4:D245,2,0)*0.4),))","v":0},0,14,14,14,{"$f":"IF((AB13<=0),0,AD13)","v":14},null,1,{"$f":"IF(AND(C13<>\"\",L13>TIME(8,,)),VLOOKUP(C13,'VMA2016'!$A$3:$D$244,3,),0)","v":0},{"$f":"IF(OR(AND(H13=\"\",F13<>\"\",L13>TIME(8,,),L13<TIME(23,59,59)),AND(H13=\"\",J13<TIME(,,1),L13<TIME(23,59,59),J13<>\"\"),AND(H13=\"\",K13>TIME(23,59,59),L13<TIME(8,,1))),VLOOKUP(F13,'VMA2016'!$A$3:$D$244,3,),0)","v":14},{"$f":"IF(AND(H13<>\"\",L13<TIME(23,59,59)),VLOOKUP(H13,'VMA2016'!$A$3:$D$244,3,),0)","v":0},{"$f":"IF(L13>TIME(23,59,59),VLOOKUP(F13,'VMA2016'!$A$3:$D$244,2),0)","v":0}]
[{"$nulls":11},"","",{"$nulls":5},0,null,{"$f":"IF(AND($H$5=\"ja\",N14=\"ja\",T14=0,$U$5=\"nein\"),IF(C14<>\"\",VLOOKUP(C14,'VMA2016'!A4:D245,4,),VLOOKUP(F14,'VMA2016'!A4:D245,4,)),\"\")","v":""},null,null,{"$f":"IF(AND(P14=\"JA\",C14<>\"\"),(VLOOKUP(C14,'VMA2016'!A5:D246,2,0)*0.2),IF(AND(P14=\"ja\",F14<>\"\"),(VLOOKUP(F14,'VMA2016'!A5:D246,2,0)*0.2),))","v":0},{"$f":"IF(AND(Q14=\"JA\",C14<>\"\"),(VLOOKUP(C14,'VMA2016'!A5:D246,2,0)*0.4),IF(AND(Q14=\"ja\",F14<>\"\"),(VLOOKUP(F14,'VMA2016'!A5:D246,2,0)*0.4),))","v":0},{"$f":"IF(AND(R14=\"JA\",C14<>\"\"),(VLOOKUP(C14,'VMA2016'!A5:D246,2,0)*0.4),IF(AND(R14=\"ja\",F14<>\"\"),(VLOOKUP(F14,'VMA2016'!A5:D246,2,0)*0.4),))","v":0},0,0,"",{"$error":"#VALUE!"},0,null,0,{"$f":"IF(AND(C14<>\"\",L14>TIME(8,,)),VLOOKUP(C14,'VMA2016'!$A$3:$D$244,3,),0)","v":0},{"$f":"IF(OR(AND(H14=\"\",F14<>\"\",L14>TIME(8,,),L14<TIME(23,59,59)),AND(H14=\"\",J14<TIME(,,1),L14<TIME(23,59,59),J14<>\"\"),AND(H14=\"\",K14>TIME(23,59,59),L14<TIME(8,,1))),VLOOKUP(F14,'VMA2016'!$A$3:$D$244,3,),0)","v":0},{"$f":"IF(AND(H14<>\"\",L14<TIME(23,59,59)),VLOOKUP(H14,'VMA2016'!$A$3:$D$244,3,),0)","v":0},{"$f":"IF(L14>TIME(23,59,59),VLOOKUP(F14,'VMA2016'!$A$3:$D$244,2),0)","v":{"$error":"#N/A"}}]
[null,"Besprechung Prag","Tschechische Republik","ja",{"$nulls":4},"2021-05-15","07:30:00",0.625,0.3125,0,{"$nulls":5},0,null,{"$f":"IF(AND($H$5=\"ja\",N15=\"ja\",T15=0,$U$5=\"nein\"),IF(C15<>\"\",VLOOKUP(C15,'VMA2016'!A5:D246,4,),VLOOKUP(F15,'VMA2016'!A5:D246,4,)),\"\")","v":""},330,null,{"$f":"IF(AND(P15=\"JA\",C15<>\"\"),(VLOOKUP(C15,'VMA2016'!A6:D247,2,0)*0.2),IF(AND(P15=\"ja\",F15<>\"\"),(VLOOKUP(F15,'VMA2016'!A6:D247,2,0)*0.2),))","v":0},{"$f":"IF(AND(Q15=\"JA\",C15<>\"\"),(VLOOKUP(C15,'VMA2016'!A6:D247,2,0)*0.4),IF(AND(Q15=\"ja\",F15<>\"\"),(VLOOKUP(F15,'VMA2016'!A6:D247,2,0)*0.4),))","v":0},{"$f":"IF(AND(R15=\"JA\",C15<>\"\"),(VLOOKUP(C15,'VMA2016'!A6:D247,2,0)*0.4),IF(AND(R15=\"ja\",F15<>\"\"),(VLOOKUP(F15,'VMA2016'!A6:D247,2,0)*0.4),))","v":0},0,0,0,0,0,null,1,{"$f":"IF(AND(C15<>\"\",L15>TIME(8,,)),VLOOKUP(C15,'VMA2016'!$A$3:$D$244,3,),0)","v":0},{"$f":"IF(OR(AND(H15=\"\",F15<>\"\",L15>TIME(8,,),L15<TIME(23,59,59)),AND(H15=\"\",J15<TIME(,,1),L15<TIME(23,59,59),J15<>\"\"),AND(H15=\"\",K15>TIME(23,59,59),L15<TIME(8,,1))),VLOOKUP(F15,'VMA2016'!$A$3:$D$244,3,),0)","v":0},{"$f":"IF(AND(H15<>\"\",L15<TIME(23,59,59)),VLOOKUP(H15,'VMA2016'!$A$3:$D$244,3,),0)","v":0},{"$f":"IF(L15>TIME(23,59,59),VLOOKUP(F15,'VMA2016'!$A$3:$D$244,2),0)","v":0}]
[{"$nulls":11},"","",{"$nulls":5},0,null,{"$f":"IF(AND($H$5=\"ja\",N16=\"ja\",T16=0,$U$5=\"nein\"),IF(C16<>\"\",VLOOKUP(C16,'VMA2016'!A6:D247,4,),VLOOKUP(F16,'VMA2016'!A6:D247,4,)),\"\")","v":""},null,null,{"$f":"IF(AND(P16=\"JA\",C16<>\"\"),(VLOOKUP(C16,'VMA2016'!A7:D248,2,0)*0.2),IF(AND(P16=\"ja\",F16<>\"\"),(VLOOKUP(F16,'VMA2016'!A7:D248,2,0)*0.2),))","v":0},{"$f":"IF(AND(Q16=\"JA\",C16<>\"\"),(VLOOKUP(C16,'VMA2016'!A7:D248,2,0)*0.4),IF(AND(Q16=\"ja\",F16<>\"\"),(VLOOKUP(F16,'VMA2016'!A7:D248,2,0)*0.4),))","v":0},{"$f":"IF(AND(R16=\"JA\",C16<>\"\"),(VLOOKUP(C16,'VMA2016'!A7:D248,2,0)*0.4),IF(AND(R16=\"ja\",F16<>\"\"),(VLOOKUP(F16,'VMA2016'!A7:D248,2,0)*0.4),))","v":0},0,0,"",{"$error":"#VALUE!"},0,null,0,{"$f":"IF(AND(C16<>\"\",L16>TIME(8,,)),VLOOKUP(C16,'VMA2016'!$A$3:$D$244,3,),0)","v":0},{"$f":"IF(OR(AND(H16=\"\",F16<>\"\",L16>TIME(8,,),L16<TIME(23,59,59)),AND(H16=\"\",J16<TIME(,,1),L16<TIME(23,59,59),J16<>\"\"),AND(H16=\"\",K16>TIME(23,59,59),L16<TIME(8,,1))),VLOOKUP(F16,'VMA2016'!$A$3:$D$244,3,),0)","v":0},{"$f":"IF(AND(H16<>\"\",L16<TIME(23,59,59)),VLOOKUP(H16,'VMA2016'!$A$3:$D$244,3,),0)","v":0},{"$f":"IF(L16>TIME(23,59,59),VLOOKUP(F16,'VMA2016'!$A$3:$D$244,2),0)","v":{"$error":"#N/A"}}]
[null,"Aquise Legnica",null,null,"Deutschland","Polen (Übriges)",null,null,"2021-05-23","15:30:00",1,0.35416666666666663,20,"ja","Qubus Hotel",null,null,"ja",8.3999999999999986,45,{"$f":"IF(AND($H$5=\"ja\",N17=\"ja\",T17=0,$U$5=\"nein\"),IF(C17<>\"\",VLOOKUP(C17,'VMA2016'!A7:D248,4,),VLOOKUP(F17,'VMA2016'!A7:D248,4,)),\"\")","v":""},203,null,{"$f":"IF(AND(P17=\"JA\",C17<>\"\"),(VLOOKUP(C17,'VMA2016'!A8:D249,2,0)*0.2),IF(AND(P17=\"ja\",F17<>\"\"),(VLOOKUP(F17,'VMA2016'!A8:D249,2,0)*0.2),))","v":0},{"$f":"IF(AND(Q17=\"JA\",C17<>\"\"),(VLOOKUP(C17,'VMA2016'!A8:D249,2,0)*0.4),IF(AND(Q17=\"ja\",F17<>\"\"),(VLOOKUP(F17,'VMA2016'!A8:D249,2,0)*0.4),))","v":0},{"$f":"IF(AND(R17=\"JA\",C17<>\"\"),(VLOOKUP(C17,'VMA2016'!A8:D249,2,0)*0.4),IF(AND(R17=\"ja\",F17<>\"\"),(VLOOKUP(F17,'VMA2016'!A8:D249,2,0)*0.4),))","v":11.600000000000001},11.600000000000001,8.3999999999999986,20,8.3999999999999986,8.3999999999999986,null,1,{"$f":"IF(AND(C17<>\"\",L17>TIME(8,,)),VLOOKUP(C17,'VMA2016'!$A$3:$D$244,3,),0)","v":0},{"$f":"IF(OR(AND(H17=\"\",F17<>\"\",L17>TIME(8,,),L17<TIME(23,59,59)),AND(H17=\"\",J17<TIME(,,1),L17<TIME(23,59,59),J17<>\"\"),AND(H17=\"\",K17>TIME(23,59,59),L17<TIME(8,,1))),VLOOKUP(F17,'VMA2016'!$A$3:$D$244,3,),0)","v":20},{"$f":"IF(AND(H17<>\"\",L17<TIME(23,59,59)),VLOOKUP(H17,'VMA2016'!$A$3:$D$244,3,),0)","v":0},{"$f":"IF(L17>TIME(23,59,59),VLOOKUP(F17,'VMA2016'!$A$3:$D$244,2),0)","v":0}]
[null,"Aquise Legnica",null,null,"Polen (Übriges)","Tschechische Republik",null,"Tschechische Republik","2021-05-24","00:00:00",1,1,35,"ja","Hotel Theatrino",null,null,"ja",21,60,{"$f":"IF(AND($H$5=\"ja\",N18=\"ja\",T18=0,$U$5=\"nein\"),IF(C18<>\"\",VLOOKUP(C18,'VMA2016'!A8:D249,4,),VLOOKUP(F18,'VMA2016'!A8:D249,4,)),\"\")","v":""},269,null,{"$f":"IF(AND(P18=\"JA\",C18<>\"\"),(VLOOKUP(C18,'VMA2016'!A9:D250,2,0)*0.2),IF(AND(P18=\"ja\",F18<>\"\"),(VLOOKUP(F18,'VMA2016'!A9:D250,2,0)*0.2),))","v":0},{"$f":"IF(AND(Q18=\"JA\",C18<>\"\"),(VLOOKUP(C18,'VMA2016'!A9:D250,2,0)*0.4),IF(AND(Q18=\"ja\",F18<>\"\"),(VLOOKUP(F18,'VMA2016'!A9:D250,2,0)*0.4),))","v":0},{"$f":"IF(AND(R18=\"JA\",C18<>\"\"),(VLOOKUP(C18,'VMA2016'!A9:D250,2,0)*0.4),IF(AND(R18=\"ja\",F18<>\"\"),(VLOOKUP(F18,'VMA2016'!A9:D250,2,0)*0.4),))","v":14},14,21,35,{"$f":"IF(((M18-AA18)>0),(M18-AA18),0)","v":21},21,null,1,{"$f":"IF(AND(C18<>\"\",L18>TIME(8,,)),VLOOKUP(C18,'VMA2016'!$A$3:$D$244,3,),0)","v":0},{"$f":"IF(OR(AND(H18=\"\",F18<>\"\",L18>TIME(8,,),L18<TIME(23,59,59)),AND(H18=\"\",J18<TIME(,,1),L18<TIME(23,59,59),J18<>\"\"),AND(H18=\"\",K18>TIME(23,59,59),L18<TIME(8,,1))),VLOOKUP(F18,'VMA2016'!$A$3:$D$244,3,),0)","v":0},{"$f":"IF(AND(H18<>\"\",L18<TIME(23,59,59)),VLOOKUP(H18,'VMA2016'!$A$3:$D$244,3,),0)","v":0},{"$f":"IF(L18>TIME(23,59,59),VLOOKUP(F18,'VMA2016'!$A$3:$D$244,2),0)","v":35}]
[null,"Besprechung Prag",null,null,"Tschechische Republik","Deutschland",null,"Tschechische Republik","2021-05-25","00:00:00",0.77083333333333337,0.77083333333333337,24,null,null,"ja",null,null,18.399999999999999,null,{"$f":"IF(AND($H$5=\"ja\",N19=\"ja\",T19=0,$U$5=\"nein\"),IF(C19<>\"\",VLOOKUP(C19,'VMA2016'!A9:D250,4,),VLOOKUP(F19,'VMA2016'!A9:D250,4,)),\"\")","v":""},165,null,{"$f":"IF(AND(P19=\"JA\",C19<>\"\"),(VLOOKUP(C19,'VMA2016'!A14:D255,2,0)*0.2),IF(AND(P19=\"ja\",F19<>\"\"),(VLOOKUP(F19,'VMA2016'!A14:D255,2,0)*0.2),))","v":5.6000000000000005},{"$f":"IF(AND(Q19=\"JA\",C19<>\"\"),(VLOOKUP(C19,'VMA2016'!A14:D255,2,0)*0.4),IF(AND(Q19=\"ja\",F19<>\"\"),(VLOOKUP(F19,'VMA2016'!A14:D255,2,0)*0.4),))","v":0},{"$f":"IF(AND(R19=\"JA\",C19<>\"\"),(VLOOKUP(C19,'VMA2016'!A14:D255,2,0)*0.4),IF(AND(R19=\"ja\",F19<>\"\"),(VLOOKUP(F19,'VMA2016'!A14:D255,2,0)*0.4),))","v":0},5.6000000000000005,18.399999999999999,24,{"$f":"IF(((M19-AA19)>0),(M19-AA19),0)","v":18.399999999999999},{"$f":"IF((AB19<=0),0,AD19)","v":18.399999999999999},null,1,{"$f":"IF(AND(C19<>\"\",L19>TIME(8,,)),VLOOKUP(C19,'VMA2016'!$A$3:$D$244,3,),0)","v":0},{"$f":"IF(OR(AND(H19=\"\",F19<>\"\",L19>TIME(8,,),L19<TIME(23,59,59)),AND(H19=\"\",J19<TIME(,,1),L19<TIME(23,59,59),J19<>\"\"),AND(H19=\"\",K19>TIME(23,59,59),L19<TIME(8,,1))),VLOOKUP(F19,'VMA2016'!$A$3:$D$244,3,),0)","v":0},{"$f":"IF(AND(H19<>\"\",L19<TIME(23,59,59)),VLOOKUP(H19,'VMA2016'!$A$3:$D$244,3,),0)","v":24},{"$f":"IF(L19>TIME(23,59,59),VLOOKUP(F19,'VMA2016'!$A$3:$D$244,2),0)","v":0}]
[{"$nulls":11},"","",{"$nulls":5},0,null,{"$f":"IF(AND($H$5=\"ja\",N20=\"ja\",T20=0,$U$5=\"nein\"),IF(C20<>\"\",VLOOKUP(C20,'VMA2016'!A10:D251,4,),VLOOKUP(F20,'VMA2016'!A10:D251,4,)),\"\")","v":""},null,null,{"$f":"IF(AND(P20=\"JA\",C20<>\"\"),(VLOOKUP(C20,'VMA2016'!A15:D256,2,0)*0.2),IF(AND(P20=\"ja\",F20<>\"\"),(VLOOKUP(F20,'VMA2016'!A15:D256,2,0)*0.2),))","v":0},{"$f":"IF(AND(Q20=\"JA\",C20<>\"\"),(VLOOKUP(C20,'VMA2016'!A15:D256,2,0)*0.4),IF(AND(Q20=\"ja\",F20<>\"\"),(VLOOKUP(F20,'VMA2016'!A15:D256,2,0)*0.4),))","v":0},{"$f":"IF(AND(R20=\"JA\",C20<>\"\"),(VLOOKUP(C20,'VMA2016'!A15:D256,2,0)*0.4),IF(AND(R20=\"ja\",F20<>\"\"),(VLOOKUP(F20,'VMA2016'!A15:D256,2,0)*0.4),))","v":0},0,0,"",{"$f":"IF(((M20-AA20)>0),(M20-AA20),0)","v":{"$error":"#VALUE!"}},{"$f":"IF((AB20<=0),0,AD20)","v":0},null,0,{"$f":"IF(AND(C20<>\"\",L20>TIME(8,,)),VLOOKUP(C20,'VMA2016'!$A$3:$D$244,3,),0)","v":0},{"$f":"IF(OR(AND(H20=\"\",F20<>\"\",L20>TIME(8,,),L20<TIME(23,59,59)),AND(H20=\"\",J20<TIME(,,1),L20<TIME(23,59,59),J20<>\"\"),AND(H20=\"\",K20>TIME(23,59,59),L20<TIME(8,,1))),VLOOKUP(F20,'VMA2016'!$A$3:$D$244,3,),0)","v":0},{"$f":"IF(AND(H20<>\"\",L20<TIME(23,59,59)),VLOOKUP(H20,'VMA2016'!$A$3:$D$244,3,),0)","v":0},{"$f":"IF(L20>TIME(23,59,59),VLOOKUP(F20,'VMA2016'!$A$3:$D$244,2),0)","v":{"$error":"#N/A"}}]
[null,"Summe",{"$nulls":16},{"$f":"SUM(S11:S20)","v":114.80000000000001},{"$f":"SUM(T11:T20)","v":105},{"$f":"SUM(U11:U20)","v":336},{"$f":"SUM(V11:V20)","v":987}]
[]
[null,"Verpflegungsmehraufwendungen abzgl. anzurechnender, gestellter Mahlzeiten",{"$nulls":16},{"$f":"S21","v":114.80000000000001}]
[]
[null,"Übernachtungskosten",{"$nulls":16},{"$f":"E26+I26","v":441}]
[null,null,"Nachweise:",null,{"$f":"T21","v":105},null,"Pauschal:",null,{"$f":"U21","v":336}]
[]
[null,"Fahrtkosten ",{"$nulls":16},{"$f":"K29","v":296.09999999999997}]
[null,null,"Pkw:",null,"Summe km:",{"$f":"$V$21","v":987},null,"pauschal pro Kilometer:",{"$f":"'Sonst. Bezüge'!B11","v":0.3},null,{"$f":"I29*F29","v":296.09999999999997}]
[]
[null,"sonstige Kosten lt. Anlage (z. B. Parken, Autobahngebühr, Flug-/Zug-/ÖPNV-Tickets)",{"$nulls":16},698.36]
[]
[null,"Auszahlung Reisekosten für den Zeitraum:",null,null,null,{"$f":"IF((($F$3)=\"Bitte auswählen!\"),\" \",$F$3)","v":"Mai"},{"$nulls":12},{"$f":"SUM(S23+S25+S28+S31)","v":1550.2599999999998}]

{"sheet":"VMA2016","index":2,"n_rows":244,"n_cols":8,"rows_kept":244,"cut":false,"hidden":true,"merged":[]}
[1,2,3,4,5,6,7]
["Land","volle 24 h abwesend","für An- und Abreisetag oder bei 8 h Abwesenheit","ÜN",null,null,0.2,0.4]
["Afghanistan",30,20,95,null,null,{"$f":"B3*20/100","v":6},{"$f":"B3*40/100","v":12}]
["Ägypten",41,28,125,null,null,{"$f":"B4*20/100","v":8.1999999999999993},{"$f":"B4*40/100","v":16.399999999999999}]
["Äthiopien",39,26,130,null,null,7.8,15.6]
["Aquatorialguinea",36,24,166,null,null,7.2,14.4]
["Albanien",27,18,112,null,null,{"$f":"B7*20/100","v":5.4},{"$f":"B7*40/100","v":10.8}]
["Algerien",51,34,173,null,null,10.199999999999999,20.399999999999999]
["Andorra",41,28,91,null,null,8.1999999999999993,16.399999999999999]
["Angola",52,35,299,null,null,10.4,20.8]
["Antigua und Barbuda",45,30,177,null,null,9,18]
["Argentinien",35,24,113,null,null,7,14]
["Armenien",24,16,59,null,null,4.8,9.6]
["Aserbaidschan",30,20,72,null,null,6,12]
["Australien: Canberra",51,34,158,null,null,10.199999999999999,20.399999999999999]
["Australien: Sydney",68,45,184,null,null,13.6,27.2]
["Australien (Übriges)",51,34,158,null,null,{"$f":"B17*20/100","v":10.199999999999999},{"$f":"B17*40/100","v":20.399999999999999}]
["Bahrain",45,30,180,null,null,9,18]
["Bangladesch",50,33,165,null,null,10,20]
["Barbados",52,35,165,null,null,10.4,20.8]
["Belgien",42,28,135,null,null,8.4,16.8]
["Benin",52,35,115,null,null,10.4,20.8]
["Bolivien",30,20,93,null,null,6,12]
["Bosnien und Herzegowina",23,16,75,null,null,4.5999999999999996,9.1999999999999993]
["Botsuana",46,31,176,null,null,9.1999999999999993,18.399999999999999]
["Brasilien: Brasilia",57,38,127,null,null,11.4,22.8]
["Brasilien: Rio de Janeiro",57,38,145,null,null,11.4,22.8]
["Brasilien: São Paulo",53,36,132,null,null,10.6,21.2]
["Brasilien (Übriges)",51,34,84,null,null,{"$f":"B29*20/100","v":10.199999999999999},{"$f":"B29*40/100","v":20.399999999999999}]
["Brunei (Darussalam)",52,35,106,null,null,10.4,20.8]
["Bulgarien",22,15,115,null,null,4.4000000000000004,8.8000000000000007]
["Burkina Faso",38,25,174,null,null,7.6,15.2]
["Burundi",36,24,138,null,null,7.2,14.4]
["Chile",44,29,154,null,null,8.8000000000000007,17.600000000000001]
["China: Chengdu",41,28,131,null,null,8.1999999999999993,16.399999999999999]
["China: Hongkong",74,49,145,null,null,14.8,29.6]
["China: Kanton",36,24,150,null,null,7.2,14.4]
["China: Peking",30,20,185,null,null,6,12]
["China: Shanghai",58,39,217,null,null,11.6,23.2]
["China (Übriges)",48,32,112,null,null,{"$f":"B40*20/100","v":9.6},{"$f":"B40*40/100","v":19.2}]
["Costa Rica",47,32,69,null,null,9.4,18.8]
["Côte d'Ivoire (Elfenbeinküste)",59,40,166,null,null,11.8,23.6]
["Deutschland",28,14,20,null,null,5.6,11.2]
["Dominica",45,30,177,null,null,9,18]
["Dominikanische Republik",45,30,147,null,null,9,18]
["Dschibuti",65,44,305,null,null,13,26]
["Dänemark",58,39,143,null,null,11.6,23.2]
["Ecuador",40,29,97,null,null,8,16]
["El Salvador",44,29,119,null,null,8.8000000000000007,17.600000000000001]
["Eritrea",50,33,91,null,null,10,20]
["Estland",29,20,85,null,null,5.8,11.6]
["Fidschi",34,23,69,null,null,6.8,13.6]
["Finnland",50,33,136,null,null,10,20]
["Frankreich: Lyon",53,36,115,null,null,10.6,21.2]
["Frankreich: Marseille",46,31,101,null,null,9.1999999999999993,18.399999999999999]
["Frankreich: Paris (*)",58,39,152,null,null,11.6,23.2]
["Frankreich: Straßburg",51,34,96,null,null,10.199999999999999,20.399999999999999]
["Frankreich (Übriges)",44,29,115,null,null,{"$f":"B58*20/100","v":8.8000000000000007},{"$f":"B58*40/100","v":17.600000000000001}]
["Gabun",52,35,183,null,null,10.4,20.8]
["Gambia",40,27,161,null,null,8,16]
["Georgien",35,24,88,null,null,7,14]
["Ghana",46,31,148,null,null,9.1999999999999993,18.399999999999999]
["Grenada",45,30,177,null,null,9,18]
["Griechenland: Athen",46,31,132,null,null,9.1999999999999993,18.399999999999999]
["Griechenland (Übriges)",36,24,135,null,null,{"$f":"B65*20/100","v":7.2},{"$f":"B65*40/100","v":14.4}]
["Guatemala",34,23,90,null,null,6.8,13.6]
["Guinea",46,31,118,null,null,9.1999999999999993,18.399999999999999]
["Guinea-Bissau",24,16,86,null,null,4.8,9.6]
["Guyana",45,30,177,null,null,9,18]
["Haiti",58,39,130,null,null,11.6,23.2]
["Honduras",48,32,101,null,null,9.6,19.2]
["Indien: Bangalore",42,28,155,null,null,{"$f":"B72*20/100","v":8.4},{"$f":"B72*40/100","v":16.8}]
["Indien: Chennai (Madras)",32,21,85,null,null,6.4,12.8]
["Indien: Kolkata (Kalkutta)",35,24,145,null,null,7,14]
["Indien: Mumbai (Mumbai)",50,33,146,null,null,10,20]
["Indien: Neu-Delhi",38,25,185,null,null,7.6,15.2]
["Indien (Übriges)",32,21,85,null,null,{"$f":"B77*20/100","v":6.4},{"$f":"B77*40/100","v":12.8}]
["Indonesien",36,24,134,null,null,7.2,14.4]
["Iran, Islamische Republik",33,22,196,null,null,6.6,13.2]
["Irland",58,39,129,null,null,11.6,23.2]
["Island",47,32,108,null,null,9.4,18.8]
["Israel",66,44,190,null,null,13.2,26.4]
["Italien: Mailand",45,30,158,null,null,9,18]
["Italien: Rom",40,27,135,null,null,8,16]
["Italien (Übriges)",40,27,135,null,null,{"$f":"B85*20/100","v":8},{"$f":"B85*40/100","v":16}]
["Jamaika",57,38,138,null,null,11.4,22.8]
["Japan: Tokio",66,44,233,null,null,13.2,26.4]
["Japan (Übriges)",52,35,190,null,null,{"$f":"B88*20/100","v":10.4},{"$f":"B88*40/100","v":20.8}]
["Jemen",24,16,95,null,null,4.8,9.6]
["Jordanien",46,31,126,null,null,9.1999999999999993,18.399999999999999]
["Kambodscha",38,25,94,null,null,7.6,15.2]
["Kamerun",50,33,180,null,null,10,20]
["Kanada: Ottawa",47,32,142,null,null,9.4,18.8]
["Kanada: Toronto",51,34,161,null,null,10.199999999999999,20.399999999999999]
["Kanada: Vancouver",50,33,140,null,null,10,20]
["Kanada (Übriges)",47,32,134,null,null,{"$f":"B96*20/100","v":9.4},{"$f":"B96*40/100","v":18.8}]
["Kap Verde",30,20,105,null,null,6,12]
["Kasachstan",45,30,111,null,null,9,18]
["Katar",56,37,149,null,null,11.2,22.4]
["Kenia",51,34,219,null,null,10.199999999999999,20.399999999999999]
["Kirgisistan",27,18,74,null,null,5.4,10.8]
["Kolumbien",46,31,115,null,null,9.1999999999999993,18.399999999999999]
["Kongo, Demokratische Republik (früher: Zaire)",70,47,190,null,null,14,28]
["Kongo, Republik",62,41,215,null,null,12.4,24.8]
["Korea, Demokratische Volksrepublik (Nordkorea)",28,19,92,null,null,5.6,11.2]
["Korea, Republik",48,32,108,null,null,9.6,19.2]
["Kosovo",23,16,57,null,null,4.5999999999999996,9.1999999999999993]
["Kroatien",35,24,107,null,null,7,14]
["Kuba",46,31,228,null,null,9.1999999999999993,18.399999999999999]
["Kuwait",56,37,241,null,null,11.2,22.4]
["Laos",33,22,96,null,null,6.6,13.2]
["Lesotho",24,16,103,null,null,4.8,9.6]
["Lettland",35,24,76,null,null,7,14]
["Libanon",59,40,123,null,null,11.8,23.6]
["Libyen",63,42,135,null,null,12.6,25.2]
["Liechtenstein",56,37,190,null,null,11.2,22.4]
["Litauen",26,17,109,null,null,5.2,10.4]
["Luxemburg",47,32,130,null,null,9.4,18.8]
["Madagaskar",34,23,87,null,null,6.8,13.6]
["Malawi",47,32,123,null,null,9.4,18.8]
["Malaysia",34,23,88,null,null,6.8,13.6]
["Malediven",52,35,170,null,null,10.4,20.8]
["Mali",38,25,120,null,null,7.6,15.2]
["Malta",46,31,114,null,null,9.1999999999999993,18.399999999999999]
["Marokko",42,28,129,null,null,8.4,16.8]
["Marshall Inseln",63,42,116,null,null,12.6,25.2]
["Mauretanien",39,26,105,null,null,7.8,15.6]
["Mauritius",54,36,220,null,null,10.8,21.6]
["Mazedonien",29,20,95,null,null,5.8,11.6]
["Mexiko",48,32,177,null,null,9.6,19.2]
["Mikronesien",33,22,116,null,null,6.6,13.2]
["Moldau, Republik",24,16,88,null,null,4.8,9.6]
["Monaco",42,28,180,null,null,8.4,16.8]
["Mongolei",27,18,92,null,null,5.4,10.8]
["Montenegro",29,20,95,null,null,5.8,11.6]
["Mosambik",38,25,146,null,null,7.6,15.2]
["Myanmar (früher: Burma)",35,24,155,null,null,{"$f":"B137*20/100","v":7},{"$f":"B137*40/100","v":14}]
["Namibia",30,20,112,null,null,6,12]
["Nepal",36,24,126,null,null,7.2,14.4]
["Neuseeland",56,37,153,null,null,11.2,22.4]
["Nicaragua",36,24,81,null,null,7.2,14.4]
["Niederlande",47,32,122,null,null,9.4,18.8]
["Niger",42,28,131,null,null,8.4,16.8]
["Nigeria",46,31,182,null,null,9.1999999999999993,18.399999999999999]
["Norwegen",80,53,182,null,null,16,32]
["Oman",60,40,200,null,null,12,24]
["Pakistan: Islamabad",23,16,238,null,null,4.5999999999999996,9.1999999999999993]
["Pakistan (Übriges)",34,23,122,null,null,{"$f":"B148*20/100","v":6.8},{"$f":"B148*40/100","v":13.6}]
["Palau",51,34,179,null,null,10.199999999999999,20.399999999999999]
["Panama",39,26,111,null,null,7.8,15.6]
["Papua-Neuguinea",60,40,234,null,null,12,24]
["Paraguay",38,25,108,null,null,7.6,15.2]
["Peru",34,23,143,null,null,6.8,13.6]
["Philippinen",33,22,116,null,null,6.6,13.2]
["Polen: Breslau",33,22,117,null,null,6.6,13.2]
["Polen: Danzig",30,20,84,null,null,6,12]
["Polen: Krakau",27,18,86,null,null,5.4,10.8]
["Polen: Warschau",29,20,109,null,null,5.8,11.6]
["Polen (Übriges)",29,20,60,null,null,{"$f":"B159*20/100","v":5.8},{"$f":"B159*40/100","v":11.6}]
["Portugal",36,24,102,null,null,7.2,14.4]
["Ruanda",46,31,141,null,null,9.1999999999999993,18.399999999999999]
["Rumänien: Bukarest",32,21,92,null,null,6.4,12.8]
["Rumänien (Übriges)",27,18,89,null,null,{"$f":"B163*20/100","v":5.4},{"$f":"B163*40/100","v":10.8}]
["Russische Föderation: Jekaterinburg",28,19,84,null,null,{"$f":"B164*20/100","v":5.6},{"$f":"B164*40/100","v":11.2}]
["Russische Föderation: Moskau",30,20,110,null,null,{"$f":"B165*20/100","v":6},{"$f":"B165*40/100","v":12}]
["Russische Föderation: St. Petersburg",26,17,114,null,null,5.2,10.4]
["Russische Föderation (Übrige)",24,16,58,null,null,4.8,9.6]
["Russische Föderation: Sankt Petersburg",26,17,114,null,null,5.2,10.4]
["Jekaterinenburg",28,19,84,null,null,5.6,11.2]
["Sambia",36,24,95,null,null,7.2,14.4]
["Samoa",29,20,57,null,null,5.8,11.6]
["San Marino",34,23,75,null,null,6.8,13.6]
["Saudiarabien: Djidda",38,25,234,null,null,7.6,15.2]
["Saudiarabien: Riad",48,32,179,null,null,9.6,19.2]
["Saudiarabien (Übriges)",48,32,80,null,null,{"$f":"B175*20/100","v":9.6},{"$f":"B175*40/100","v":19.2}]
["Schweden",50,33,168,null,null,10,20]
["Schweiz: Genf",66,44,186,null,null,13.2,26.4]
["Schweiz (Übrige)",64,43,180,null,null,{"$f":"B178*20/100","v":12.8},{"$f":"B178*40/100","v":25.6}]
["Senegal",42,28,190,null,null,8.4,16.8]
["Serbien",20,13,74,null,null,4,8]
["Sierra Leone",48,32,161,null,null,9.6,19.2]
["Simbabwe",45,30,140,null,null,9,18]
["Singapur",54,36,197,null,null,10.8,21.6]
["Slowakische Republik",24,16,85,null,null,4.8,9.6]
["Slowenien",33,22,95,null,null,6.6,13.2]
["Spanien: Barcelona",34,23,118,null,null,6.8,13.6]
["Spanien: Kanarische Inseln",40,27,115,null,null,8,16]
["Spanien: Madrid",40,27,118,null,null,8,16]
["Spanien: Palma de Mallorca",35,24,121,null,null,7,14]
["Spanien (Übriges)",34,23,115,null,null,{"$f":"B190*20/100","v":6.8},{"$f":"B190*40/100","v":13.6}]
["Sri Lanka (früher: Ceylon)",42,28,100,null,null,8.4,16.8]
["St. Kitts und Nevis",45,30,177,null,null,9,18]
["St. Lucia",45,30,177,null,null,9,18]
["St. Vincent und die Grenadinen",45,30,177,null,null,9,18]
["Sudan",33,22,195,null,null,6.6,13.2]
["Suriname",45,30,177,null,null,9,18]
["Syrien",38,25,140,null,null,7.6,15.2]
["São Tomé und Príncipe",47,32,80,null,null,9.4,18.8]
["Südafrika: Johannisburg",29,20,124,null,null,5.8,11.6]
["Südafrika: Kapstadt",27,18,112,null,null,5.4,10.8]
["Südafrika (Übriges)",22,15,94,null,null,{"$f":"B201*20/100","v":4.4000000000000004},{"$f":"B201*40/100","v":8.8000000000000007}]
["Südsudan",34,23,150,null,null,6.8,13.6]
["Tadschikistan",27,18,118,null,null,5.4,10.8]
["Taiwan",46,31,143,null,null,{"$f":"B204*20/100","v":9.1999999999999993},{"$f":"B204*40/100","v":18.399999999999999}]
["Tansania",47,32,201,null,null,9.4,18.8]
["Thailand",38,25,110,null,null,7.6,15.2]
["Togo",39,26,118,null,null,7.8,15.6]
["Tonga",39,26,94,null,null,7.8,15.6]
["Trinidad und Tobago",45,30,177,null,null,9,18]
["Tschad",64,43,163,null,null,12.8,25.6]
["Tschechische Republik",35,24,94,null,null,7,14]
["Tunesien",40,27,115,null,null,8,16]
["Turkmenistan",33,22,108,null,null,6.6,13.2]
["Türkei: Istanbul",26,17,120,null,null,5.2,10.4]
["Türkei: Izmir",29,20,55,null,null,5.8,11.6]
["Türkei (Übrige)",17,12,95,null,null,{"$f":"B216*20/100","v":3.4},{"$f":"B216*40/100","v":6.8}]
["Uganda",41,28,143,null,null,8.1999999999999993,16.399999999999999]
["Ukraine",26,17,98,null,null,5.2,10.4]
["Ungarn",22,15,63,null,null,4.4000000000000004,8.8000000000000007]
["Uruguay",48,32,90,null,null,9.6,19.2]
["Usbekistan",34,23,104,null,null,6.8,13.6]
["Vatikanstadt/Vatikanstaat",52,35,160,null,null,10.4,20.8]
["Venezuela",45,30,127,null,null,9,18]
["Vereinigte Arabischen Emirate",65,44,156,null,null,13,26]
["Vereinigte Staaten von Amerika USA (Übrige)",51,34,138,null,null,10.199999999999999,20.399999999999999]
["Vereinigte Staaten von Amerika USA: Atlanta",62,41,175,null,null,12.4,24.8]
["Vereinigte Staaten von Amerika USA: Boston",58,39,265,null,null,11.6,23.2]
["Vereinigte Staaten von Amerika USA: Chicago",54,36,209,null,null,10.8,21.6]
["Vereinigte Staaten von Amerika USA: Houston",63,42,138,null,null,12.6,25.2]
["Vereinigte Staaten von Amerika USA: Los Angeles",56,37,274,null,null,11.2,22.4]
["Vereinigte Staaten von Amerika USA: Miami",64,43,151,null,null,12.8,25.6]
["Vereinigte Staaten von Amerika USA: New York City",58,39,282,null,null,11.6,23.2]
["Vereinigte Staaten von Amerika USA: San Francisco",51,34,314,null,null,10.199999999999999,20.399999999999999]
["Vereinigte Staaten von Amerika USA: Washington, D. C.",62,41,276,null,null,12.4,24.8]
["Vereinigtes Königreich von Großbritannien und Nordirland: London",62,41,224,null,null,12.4,24.8]
["Vereinigtes Königreich von Großbritannien und Nordirland (Übriges)",45,30,115,null,null,{"$f":"B236*20/100","v":9},{"$f":"B236*40/100","v":18}]
["Vietnam",41,28,86,null,null,8.1999999999999993,16.399999999999999]
["Weißrussland",20,13,98,null,null,4,8]
["Zentralafrikanische Republik",46,31,74,null,null,9.1999999999999993,18.399999999999999]
["Zypern",45,30,116,null,null,9,18]
["Ägypten",40,27,113,null,null,8,16]
["Äquatorialguinea",36,24,166,null,null,7.2,14.4]
["Äthiopien",27,18,86,null,null,5.4,10.8]
["Österreich",40,27,108,null,null,8,16]

{"sheet":"Sonst. Bezüge","index":3,"n_rows":11,"n_cols":2,"rows_kept":11,"cut":false,"hidden":true,"merged":[]}
[]
[]
["Spalten D + O"]
[]
["Ja"]
["Nein"]
[]
[]
[]
[]
["km-Pauschale:",0.3]